BEGIN:VCALENDAR
VERSION:2.0
PRODID:-//wp-events-plugin.com//7.2.3.1//EN
TZID:America/New_York
X-WR-TIMEZONE:America/New_York
BEGIN:VEVENT
UID:622@breathemiami.us
DTSTART;TZID=America/New_York:20240718T170000
DTEND;TZID=America/New_York:20240718T200000
DTSTAMP:20240706T103611Z
URL:https://breathemiami.us/events/embroidery-workshop-at-istituto-marango
 ni/
SUMMARY:Embroidery Workshop at Istituto Marangoni
DESCRIPTION:Discover the art of decorative hand-embroidery and draw inspira
 tion from the rich history of embroidery across the globe.\n\nTextile arti
 st and IMM Librarian\, Carrie Sieh\, will kick off the workshop with an en
 gaging lecture on the global history of decorative embroidery. Following t
 his\, she will guide participants through the process of transferring desi
 gns\, preparing fabric\, and mastering basic embroidery stitches.\n\nWorks
 hop Highlights:\n\n 	Educational Lecture: Gain insights from a brief yet c
 aptivating lecture on the historical significance and evolution of decorat
 ive embroidery worldwide.\n 	Hands-On Learning: Dive into the practical as
 pect as you learn to transfer designs\, prepare your fabric\, and practice
  essential embroidery stitches under expert guidance.\n 	All-Inclusive Mat
 erials: All necessary materials and take-home supplies will be provided\, 
 ensuring a seamless and enjoyable learning experience.\n\nWorkshop Objecti
 ves:\n\n 	Master Basic Stitches: Learn four foundational embroidery stitch
 es: backstitch\, chain stitch\, satin stitch\, and knot stitch.\n 	Histori
 cal Understanding: Develop an appreciation for the historical context and 
 significance of decorative embroidery.\n 	Create Your Own Piece: Produce a
  handmade embroidery piece. Choose to create an applique or embroider dire
 ctly on your own garment.\n\nJoin us at Istituto Marangoni for a unique op
 portunity to delve into the timeless craft of embroidery\, guided by exper
 t instruction and enriched by historical insights.\n\nGET TICKETS\n
ATTACH;FMTTYPE=image/jpeg:https://breathemiami.us/wp-content/uploads/2024/
 07/Embroidery-Workshop-at-Istituto-Marangoni.jpg
CATEGORIES:Mindfulness Events,Things To Do
LOCATION:ISTITUTO MARANGONI MIAMI\, 3700 Northeast 2nd Avenue Miami\, Miami
 \, Florida\,  33137\, FL \, United States
X-APPLE-STRUCTURED-LOCATION;VALUE=URI;X-ADDRESS=3700 Northeast 2nd Avenue M
 iami\, Miami\, Florida\,  33137\, FL \, United States;X-APPLE-RADIUS=100;X
 -TITLE=ISTITUTO MARANGONI MIAMI:geo:0,0
END:VEVENT
BEGIN:VTIMEZONE
TZID:America/New_York
X-LIC-LOCATION:America/New_York
BEGIN:DAYLIGHT
DTSTART:20240310T030000
TZOFFSETFROM:-0500
TZOFFSETTO:-0400
TZNAME:EDT
END:DAYLIGHT
END:VTIMEZONE
END:VCALENDAR