BEGIN:VCALENDAR
VERSION:2.0
PRODID:-//wp-events-plugin.com//7.2.3.1//EN
TZID:America/New_York
X-WR-TIMEZONE:America/New_York
BEGIN:VEVENT
UID:281@breathemiami.us
DTSTART;TZID=America/New_York:20240121T130000
DTEND;TZID=America/New_York:20240121T170000
DTSTAMP:20231228T215956Z
URL:https://breathemiami.us/events/embody-me/
SUMMARY:Embody Me
DESCRIPTION:Event Information:\n\n\n\n\n\n\n\n\n\n\n\n\n\nEmbark on a journ
 ey of self-discovery with "Embody Me" – a transformative workshop meticu
 lously crafted for women poised to unlock their authentic power and reclai
 m control over their lives. This immersive experience is designed to guide
  you towards self-empowerment\, fostering a renewed sense of strength\, pu
 rpose\, and ownership. It's time to redefine your narrative and step into 
 a future where you are the author of your own story. Join us for this empo
 wering workshop and unlock the keys to your true potential.\n\n\n\n\n\n\n\
 n\n\n\n\n\n\nDate and Time:Sunday\, January 21\, 2024 · 1 - 5pm EST\n\nAb
 out this event:\n\n 	Embody Me is a transformative workshop tailored for w
 omen ready to unlock their true power and reclaim control of their lives. 
 This 4-hour wellness workshop at Casa Terra Lumi offers practical methods 
 to reconnect with yourself and tap into your body's wisdom. Dive into mind
 ful movement\, breathing techniques\, and journaling practices to release 
 what holds you back\, allowing you to wholeheartedly embrace the new year 
 with fresh energy and infinite possibilities.\n\nTotal Duration: 4 Hour\n\
 nTicket Information:\n\n 	Mobile eTicket: [Details about electronic ticket
 ing]\n\n\nGET TICKETS\n\n\nWorkout Session Details:\n\n 	Yoga Style: Immer
 se in the rejuvenating practice of Deep Stretch Yoga\n 	Additional Practic
 es: Experience Meditation\, Sound Therapy featuring Crystal Singing Bowls\
 , and the profound effects of Chakra Healing\n 	Mindfulness Approach: Infu
 se your yoga journey with guided meditations and empowering affirmations\n
 \nEssentials to Bring:\n\n 	Reminder: Adhere to social distancing norms\n 
 	Important Note: Prioritize health—If exhibiting any symptoms\, kindly s
 tay home. Explore our healing kits containing sage bundles\, crystals\, ea
 rth stones\, and essential oils by contacting the organizer or visit our o
 nline store\n\nParking Options:\n\n 	Venue: MegaLiT Miami\n 	Address: 3223
  NE 2nd Ave\, Miami\, FL 33137\n 	Parking: Parking details are not explici
 tly provided. Kindly consult the venue or organizer for parking informatio
 n.\n
ATTACH;FMTTYPE=image/jpeg:https://breathemiami.us/wp-content/uploads/2023/
 12/https___cdn.evbuc_.com_images_634863029_424253501597_1_original.jpg
CATEGORIES:Things To Do,Wellness Events,Yoga Events
LOCATION:Casa Terra Lumi\, 245 Southwest 23rd Street Fort Lauderdale\,\, La
 uderdale\,  United States\, 33315\,  FL \, United States
X-APPLE-STRUCTURED-LOCATION;VALUE=URI;X-ADDRESS=245 Southwest 23rd Street F
 ort Lauderdale\,\, Lauderdale\,  United States\, 33315\,  FL \, United Sta
 tes;X-APPLE-RADIUS=100;X-TITLE=Casa Terra Lumi:geo:0,0
END:VEVENT
BEGIN:VTIMEZONE
TZID:America/New_York
X-LIC-LOCATION:America/New_York
BEGIN:STANDARD
DTSTART:20231105T010000
TZOFFSETFROM:-0400
TZOFFSETTO:-0500
TZNAME:EST
END:STANDARD
END:VTIMEZONE
END:VCALENDAR