BEGIN:VCALENDAR
VERSION:2.0
PRODID:-//wp-events-plugin.com//7.2.3.1//EN
TZID:America/New_York
X-WR-TIMEZONE:America/New_York
BEGIN:VEVENT
UID:1201@breathemiami.us
DTSTART;TZID=America/New_York:20241208T220000
DTEND;TZID=America/New_York:20241209T060000
DTSTAMP:20241124T080416Z
URL:https://breathemiami.us/events/elrow-hallucinarium/
SUMMARY:Elrow: Hallucinarium
DESCRIPTION:Prepare for an unforgettable journey into the surreal as elrow\
 , the world-renowned and wildly imaginative event production\, returns to 
 Miami with one of its most ambitious shows to date: Hallucinarium. This vi
 brant spectacle is set to take over Factory Town\, transforming the venue 
 into a kaleidoscopic wonderland inspired by the mind-expanding\, psychedel
 ic works of visionary artist Alex Grey.\n\nHallucinarium promises to be a 
 true visual and sensory experience\, immersing attendees in a technicolor 
 dreamscape filled with fractal artworks\, dancing mushrooms\, and psychede
 lic stage designs that evoke a sense of otherworldly exploration. As the s
 un sets and the music pulses through the night\, the event will unfold lik
 e a fever dream\, guiding revelers through mind-bending visuals and surpri
 sing elements that push the boundaries of the imagination.\n\nFrom the ver
 y first beat to the final sunrise\, Hallucinarium will offer an immersive\
 , all-night escape where reality fades into a fantastical realm. Elrow is 
 known for its unique ability to create an electrifying atmosphere\, and th
 is edition is no exception. Expect the unexpected as elrow crafts an event
  filled with outlandish costumes\, wild performances\, and a fully transfo
 rmed space where every corner offers something new to discover.\n\nThis is
  an event designed to transport its audience into a new dimension—no sub
 stances needed—as they dance\, revel\, and lose themselves in the madnes
 s of a truly spectacular and psychedelic celebration.\n\nGET TICKETS\n
ATTACH;FMTTYPE=image/jpeg:https://breathemiami.us/wp-content/uploads/2024/
 11/Elrow-Hallucinarium.webp
CATEGORIES:Things To Do
LOCATION:Factory Town\, 4800 NW 37th Ave\, Miami\, Florida\, 33140\, Florid
 a\, United States
X-APPLE-STRUCTURED-LOCATION;VALUE=URI;X-ADDRESS=4800 NW 37th Ave\, Miami\, 
 Florida\, 33140\, Florida\, United States;X-APPLE-RADIUS=100;X-TITLE=Facto
 ry Town:geo:0,0
END:VEVENT
BEGIN:VTIMEZONE
TZID:America/New_York
X-LIC-LOCATION:America/New_York
BEGIN:STANDARD
DTSTART:20241103T010000
TZOFFSETFROM:-0400
TZOFFSETTO:-0500
TZNAME:EST
END:STANDARD
END:VTIMEZONE
END:VCALENDAR