BEGIN:VCALENDAR
VERSION:2.0
PRODID:-//wp-events-plugin.com//7.2.3.1//EN
TZID:America/New_York
X-WR-TIMEZONE:America/New_York
BEGIN:VEVENT
UID:685@breathemiami.us
DTSTART;TZID=America/New_York:20240823T190000
DTEND;TZID=America/New_York:20240823T233000
DTSTAMP:20240805T161127Z
URL:https://breathemiami.us/events/elixir/
SUMMARY:EliXir
DESCRIPTION:Step into a world of mystical transformation with the Elixir Ex
 perience\, hosted at the historic Scottish Rite Temple. This ceremony of e
 uphoria\, led by Kaheal and Alex "Bushninja\," offers a unique blend of an
 cient and sacred ingredients: Kanna\, Cacao\, and Blue Lotus. These revere
 d botanicals have been used for centuries by indigenous peoples for their 
 spiritual\, health\, and euphoric benefits.\nCeremony Highlights:\nElixir 
 Experience: Begin your journey with a potent elixir crafted from Kanna\, C
 acao\, and Blue Lotus. Each ingredient brings its own unique qualities:\n\
 n 	Kanna: Known for its mood-enhancing and stress-relieving properties\, K
 anna induces calm\, relaxation\, and euphoria\, promoting mental clarity a
 nd emotional well-being.\n 	Cacao: The "food of the gods" is rich in antio
 xidants and mood-boosting compounds\, elevating mood\, increasing focus\, 
 and enhancing spiritual connection. It stimulates feelings of joy\, pleasu
 re\, and inner peace.\n 	Blue Lotus: With its calming and euphoric effects
 \, Blue Lotus induces a state of tranquility\, relaxation\, and heightened
  awareness\, promoting deep meditation and spiritual insight.\n\nSound Hea
 ling Session: Surrender to the soothing vibrations in a transformative sou
 nd healing session led by Jennifer Denali. This session prepares your mind
  and spirit for deeper introspection and relaxation.\n\nEuphoria Dance: Co
 nclude the evening with another round of the Elixir and an invigorating eu
 phoria dance guided by Kaheal. This dance session helps you connect with y
 our inner ecstasy\, celebrating the newfound sense of euphoria and spiritu
 al awakening.\nWhat to Expect:\n\n 	Guided Elixir Preparation: Learn about
  the spiritual and health benefits of Kanna\, Cacao\, and Blue Lotus.\n 	T
 ransformative Sound Healing: Experience the healing power of sound to prep
 are your mind and spirit.\n 	Euphoric Dance Session: Embrace the euphoria 
 through dance\, enhancing your connection with your inner self.\n\nAdditio
 nal Information:\n\n 	Historical Venue: Explore the enchanting grounds of 
 The Scottish Rite Masonic Temple\, a cultural gem that adds a layer of mys
 tique to your journey.\n 	Community Connection: Engage with like-minded in
 dividuals on a shared path of self-discovery and spiritual growth.\n 	Holi
 stic Experience: Benefit from a holistic blend of ancient practices\, soun
 d healing\, and movement to elevate your mind\, body\, and spirit.\n\nJoin
  us for an evening of profound connection\, emotional healing\, and spirit
 ual expansion. The Elixir of Euphoria offers a rare opportunity to explore
  the depths of your consciousness and unlock the profound wisdom and joy w
 ithin these sacred plants. Embark on this transformative journey and leave
  with a renewed sense of clarity\, peace\, and euphoria.\n\nGET TICKETS\n
ATTACH;FMTTYPE=image/jpeg:https://breathemiami.us/wp-content/uploads/2024/
 08/EliXir.jpg
CATEGORIES:Mindfulness Events,Things To Do,Wellness Events
LOCATION:Scottish Rite Temple\, 471 Northwest 3rd Street Miami\, Miami\, Fl
 orida\, 33128\,  FL \, United States
X-APPLE-STRUCTURED-LOCATION;VALUE=URI;X-ADDRESS=471 Northwest 3rd Street Mi
 ami\, Miami\, Florida\, 33128\,  FL \, United States;X-APPLE-RADIUS=100;X-
 TITLE=Scottish Rite Temple:geo:0,0
END:VEVENT
BEGIN:VTIMEZONE
TZID:America/New_York
X-LIC-LOCATION:America/New_York
BEGIN:DAYLIGHT
DTSTART:20240310T030000
TZOFFSETFROM:-0500
TZOFFSETTO:-0400
TZNAME:EDT
END:DAYLIGHT
END:VTIMEZONE
END:VCALENDAR