BEGIN:VCALENDAR
VERSION:2.0
PRODID:-//wp-events-plugin.com//7.2.3.1//EN
TZID:America/New_York
X-WR-TIMEZONE:America/New_York
BEGIN:VEVENT
UID:803@breathemiami.us
DTSTART;TZID=America/New_York:20240916T190000
DTEND;TZID=America/New_York:20240916T213000
DTSTAMP:20240906T183747Z
URL:https://breathemiami.us/events/ecstatic-full-moon-soul-dance/
SUMMARY:Ecstatic Full Moon: Soul Dance
DESCRIPTION:Embrace the transformative energy of the full moon and awaken y
 our inner dancer at the Ecstatic Full Moon: Soul Dance\, taking place on M
 onday\, September 16\, at the Faena Forum. Hosted by the creators of the J
 ungle Magick Festival\, this immersive event promises a night of movement\
 , music\, and mindfulness that will elevate your spirit and senses.\n\nEve
 nt Highlights:\n\n 	Ceremonial Opening: Begin your evening with a heart-op
 ening cacao ceremony\, followed by guided breathwork and movement warm-up 
 led by facilitators Kaheal Head and Jared Bistrong. This introduction sets
  the stage for a deep and soulful experience.\n 	Live Performances: Dive i
 nto a realm of tribal rhythms with a captivating live performance by Noa Z
 ulu and The Digital Caveman. Their powerful drumming and didgeridoo sounds
  create an immersive sonic landscape.\n 	Ecstatic Dance: Let your spirit s
 oar on the dance floor as DJ Lemurian delivers a mesmerizing mix of tribal
  electronica. This dance space is a judgment-free zone\, inviting you to m
 ove mindfully and connect with the collective energy of the group.\n 	Soun
 d Healing: Experience profound relaxation and healing with the South Beach
  Sound Healing Orchestra’s 5D sound healing session. This immersive soni
 c meditation enhances your sense of inner peace and rejuvenation.\n 	Ocean
  Magick Ceremony: Conclude the evening with a special Ocean Magick ceremon
 y under the moonlight\, guided by Kaheal. This ceremonial closing infuses 
 the night with mystical and transformative energy.\n\nImportant Notes:\n\n
  	Dress Code: Comfortable clothing is recommended. Please note that shoes 
 are not permitted on the dance floor to maintain a free-flowing movement e
 xperience.\n 	Respectful Environment: The event is designed as a judgment-
 free space. Be mindful of others\, and maintain a respectful distance whil
 e dancing.\n 	Limited Tickets: Space is limited\, so be sure to secure you
 r tickets in advance to ensure your participation in this unique event.\n\
 nFeatured Performers &amp\; Facilitators:\n\n 	DJ Lemurian: An innovative 
 artist blending ancient sounds with modern electronic music.\n 	Jared Bist
 rong: A prominent figure in Miami's sound healing community and the host o
 f Faena Hotel’s monthly Full Moon Ceremony.\n 	Kaheal Head: Founder of t
 he Fireflies Forest Festival and renowned producer of ecstatic dance event
 s across the country.\n 	Noa Zulu: A world-renowned DJ\, music producer\, 
 and master didgeridoo artist known for creating immersive musical experien
 ces.\n\nJoin us for an unforgettable night of ecstatic dance\, sound heali
 ng\, and full moon magic!\n\nGET TICKETS\n
ATTACH;FMTTYPE=image/jpeg:https://breathemiami.us/wp-content/uploads/2024/
 09/Ecstatic-Full-Moon-Soul-Dance-1.jpg
CATEGORIES:Mindfulness Events,Nature Events,Things To Do,Wellness Events
LOCATION:Faena Forum\, 3300-3398 Collins Avenue Miami Beach\, Miami\, Flori
 da\, 33140\, FL\, United States
X-APPLE-STRUCTURED-LOCATION;VALUE=URI;X-ADDRESS=3300-3398 Collins Avenue Mi
 ami Beach\, Miami\, Florida\, 33140\, FL\, United States;X-APPLE-RADIUS=10
 0;X-TITLE=Faena Forum:geo:0,0
END:VEVENT
BEGIN:VTIMEZONE
TZID:America/New_York
X-LIC-LOCATION:America/New_York
BEGIN:DAYLIGHT
DTSTART:20240310T030000
TZOFFSETFROM:-0500
TZOFFSETTO:-0400
TZNAME:EDT
END:DAYLIGHT
END:VTIMEZONE
END:VCALENDAR