BEGIN:VCALENDAR
VERSION:2.0
PRODID:-//wp-events-plugin.com//7.2.3.1//EN
TZID:America/New_York
X-WR-TIMEZONE:America/New_York
BEGIN:VEVENT
UID:1085@breathemiami.us
DTSTART;TZID=America/New_York:20241115T203000
DTEND;TZID=America/New_York:20241115T223000
DTSTAMP:20241013T132937Z
URL:https://breathemiami.us/events/ecstatic-dance/
SUMMARY:Ecstatic Dance
DESCRIPTION:Experience a transformative journey of self-discovery and liber
 ation through Ecstatic Dance at EXPANSION. This unique event invites parti
 cipants to break free from self-judgment and the confines of their minds\,
  allowing movement to serve as a form of meditation while music guides the
 m to new realms of emotional and spiritual freedom.\n\nAt EXPANSION\, danc
 ing transcends mere movement\; it becomes a unifying experience that recon
 nects individuals with their innate oneness. In this sacred space\, partic
 ipants are encouraged to release judgment and return to the essence of who
  they truly are. The rhythm of the music inspires everyone to let go of in
 hibitions\, express their deepest selves\, and celebrate the collective un
 ity of the group.\n\nWith no predetermined dance moves\, expectations\, or
  judgments\, attendees can freely explore the depths of their being\, tapp
 ing into their raw\, primal energy. The atmosphere is designed to cultivat
 e a mindful and pure experience\, ensuring an alcohol-free environment tha
 t encourages genuine connection and expression.\n\nJoin us on the 1st and 
 3rd Fridays of each month for this exhilarating experience! Participants c
 an expect an invigorating schedule:\n\n 	8:00 PM: Doors Open – Connect &
 amp\; Stretch\n 	8:30 PM: Opening Circle\n 	8:40 PM: Movement Warm-up with
  Ludovica Somatic Healing\n 	9:00 PM: Freeform Ecstatic Dance with DJ Jene
 rgy\n 	10:25 PM: Meditation / Grounding\n 	10:30 PM: Closing Circle &amp\;
  Announcements\n 	10:45 PM: Hangout &amp\; Connect\n 	11:00 PM: Doors Clos
 e\n\nFacilitator: Jennifer Mirambeau\, known as Jenergy\, is dedicated to 
 fostering radical self-expression. Her mission is to empower individuals t
 o break free from the constraints of shame\, fear\, and guilt\, allowing l
 ove to flourish through the transformative power of dance.\n\nLocation: Cr
 ossfit Yellow Falcon Miami\, 1850 NW 7th Ave\, Miami\, FL 33136\nParking: 
 Free parking is available in the lot and on the street.\nWhat to Bring: A 
 towel and a reusable water bottle.\nTickets: Available at early bird and g
 eneral admission rates.\n\nAbout Modern ŌM:\nSince 2015\, Modern ŌM has 
 connected the community with best-in-class spiritual wellness programs\, o
 ffering over 20 events monthly\, including retreats\, training\, and brand
 ed merchandise. The organization nurtures an ever-evolving community of en
 trepreneurs\, professionals\, and creatives dedicated to prioritizing spir
 itual well-being.\n\nJoin EXPANSION to shed your baggage\, embrace your tr
 ue self\, and experience the joy of collective movement.\n\n\n\nCommunity 
 Praise:\n\n 	“I love the community\, I love the vibe of Modern ŌM!!” 
 - Seema\n 	“I highly recommend this membership - you will not regret it!
 ” - Nadine\n 	“You can really tell Modern ŌM truly cares about its co
 mmunity and the conscious evolution of its members. Thank you!” - Alessa
 ndra\n\nFollow Modern ŌM on Eventbrite\, Instagram\, TikTok\, and Miami T
 elegram for updates and community engagement.\n\nGET TICKETS\n
ATTACH;FMTTYPE=image/jpeg:https://breathemiami.us/wp-content/uploads/2024/
 10/Ecstatic-Dance.jpg
CATEGORIES:Wellness Events
LOCATION:Crossfit Yellow Falcon Miami\, 1850 Northwest 7th Avenue\, Miami\,
  Florida\, 33136\, FL\, United States
X-APPLE-STRUCTURED-LOCATION;VALUE=URI;X-ADDRESS=1850 Northwest 7th Avenue\,
  Miami\, Florida\, 33136\, FL\, United States;X-APPLE-RADIUS=100;X-TITLE=C
 rossfit Yellow Falcon Miami:geo:0,0
END:VEVENT
BEGIN:VTIMEZONE
TZID:America/New_York
X-LIC-LOCATION:America/New_York
BEGIN:STANDARD
DTSTART:20241103T010000
TZOFFSETFROM:-0400
TZOFFSETTO:-0500
TZNAME:EST
END:STANDARD
END:VTIMEZONE
END:VCALENDAR