BEGIN:VCALENDAR
VERSION:2.0
PRODID:-//wp-events-plugin.com//7.2.3.1//EN
TZID:America/New_York
X-WR-TIMEZONE:America/New_York
BEGIN:VEVENT
UID:1307@breathemiami.us
DTSTART;TZID=America/New_York:20250422T100000
DTEND;TZID=America/New_York:20250422T120000
DTSTAMP:20250418T005633Z
URL:https://breathemiami.us/events/earth-day-our-power-our-planet-beach-cl
 eanup/
SUMMARY:Earth Day: Our Power\, Our Planet!
DESCRIPTION:Earth Day with Breathe at Faena\n\nA beach cleanup on Miami Be
 ach to celebrate our beautiful planet with Yoga by Tifftopia\, Twinhearts 
 Meditation by Agustina Caminos\, and sound by Lilyana Fonte.\n\nJoin us fo
 r a day filled with fun activities\, with like minded community who care
 . Let's come together to learn how we can make a positive impact on our pl
 anet and clean up\, flow and meditate visualize our co-existence.\n\nTime 
 to create a more sustainable future. Don't miss out on this chance to show
  your LOVE with Us.  As an extra bonus\, here are some FREEBIES we'll hav
 e on hand while supplies last.\n\n 	LMNT Electrolytes\n 	Asha pops\n 	Clea
 n Skin Club face towel sample kits\n 	Koia shelf stable smoothies\n 	Brez 
 nootropic canned drinks\n 	Botano affirmation card decks\n\nLove\n\nAgusti
 na\, Tiff &amp\; Lilyana
ATTACH;FMTTYPE=image/jpeg:https://breathemiami.us/wp-content/uploads/2025/
 04/earth-day-our-power-our-planet-beach-cleanup-breathe-v3-1024x1436-1.jpg
CATEGORIES:Featured Events,Mindfulness Events,Things To Do,Wellness
 Events,Yoga Events
LOCATION:Faena Hotel\, 3201 Collins Avenue\, Miami Beach\, FL\, 33140\, Uni
 ted States
X-APPLE-STRUCTURED-LOCATION;VALUE=URI;X-ADDRESS=3201 Collins Avenue\, Miami
  Beach\, FL\, 33140\, United States;X-APPLE-RADIUS=100;X-TITLE=Faena Hotel
 :geo:0,0
END:VEVENT
BEGIN:VTIMEZONE
TZID:America/New_York
X-LIC-LOCATION:America/New_York
BEGIN:DAYLIGHT
DTSTART:20250309T030000
TZOFFSETFROM:-0500
TZOFFSETTO:-0400
TZNAME:EDT
END:DAYLIGHT
END:VTIMEZONE
END:VCALENDAR