BEGIN:VCALENDAR
VERSION:2.0
PRODID:-//wp-events-plugin.com//7.2.3.1//EN
TZID:America/New_York
X-WR-TIMEZONE:America/New_York
BEGIN:VEVENT
UID:1102@breathemiami.us
DTSTART;TZID=America/New_York:20241101T170000
DTEND;TZID=America/New_York:20241101T200000
DTSTAMP:20241015T175231Z
URL:https://breathemiami.us/events/dynamic-stretch/
SUMMARY:Dynamic Stretch
DESCRIPTION:Stretching is a vital component of any fitness regimen\, yet ma
 ny people aren't taught the proper techniques to maximize its benefits. Ev
 ery Friday at 4:30 PM\, Katerina Lubek\, a professional ballet dancer and 
 instructor\, leads a dynamic stretch class that prioritizes precision and 
 technique. Drawing on her extensive training in classical ballet and gymna
 stics\, Katerina blends unique Pilates and gymnastic stretches with physic
 al therapy exercises commonly used by professional dancers.\n\nSet against
  the tranquil backdrop of Margaret Pace Park\, right at the water’s edge
 \, the class begins with a 15-minute warm-up that incorporates various exe
 rcises targeting the abs\, arms\, and glutes. Participants should be prepa
 red to break a sweat\, even with the refreshing breezes from Biscayne Bay!
 \n\nKaterina’s expertly crafted stretch technique caters to individuals 
 of all fitness levels\, offering numerous benefits\, including:\n\n 	Devel
 opment of a Toned\, Strong\, Long\, and Lean Dancer’s Body: Participants
  can work towards achieving the physique typically associated with dancers
 .\n 	Enhanced Flexibility and Agility: The class promotes overall body fle
 xibility\, crucial for both athletic performance and daily activities.\n 	
 Improved Posture and Body Alignment: Katerina’s methods help participant
 s develop better posture\, contributing to a healthier spine and reducing 
 the risk of injury.\n 	Relief from Lower Back Pain: The targeted stretches
  can alleviate discomfort and tension in the lower back.\n 	Increased Endu
 rance and Overall Body Performance: Regular stretching can enhance physica
 l performance across various activities.\n 	Superior Post-Workout Recovery
 : Stretching aids in muscle recovery\, making it an excellent addition to 
 any workout routine.\n 	Preparation for Advanced Moves: The class also set
 s the foundation for more advanced stretching techniques\, including achie
 ving splits.\n\nThis dynamic stretch class not only improves physical well
 -being but also fosters a deeper connection to one’s body\, enhancing bo
 th strength and flexibility in a serene environment.\n\nGET TICKETS\n
ATTACH;FMTTYPE=image/jpeg:https://breathemiami.us/wp-content/uploads/2024/
 10/Dynamic-Stretch.jpg
CATEGORIES:Wellness Events
LOCATION:Margaret Pace Park\, 1745 North Bayshore Drive\, Miami\, Florida\,
  33132\, FL\, United States
X-APPLE-STRUCTURED-LOCATION;VALUE=URI;X-ADDRESS=1745 North Bayshore Drive\,
  Miami\, Florida\, 33132\, FL\, United States;X-APPLE-RADIUS=100;X-TITLE=M
 argaret Pace Park:geo:0,0
END:VEVENT
BEGIN:VTIMEZONE
TZID:America/New_York
X-LIC-LOCATION:America/New_York
BEGIN:DAYLIGHT
DTSTART:20240310T030000
TZOFFSETFROM:-0500
TZOFFSETTO:-0400
TZNAME:EDT
END:DAYLIGHT
END:VTIMEZONE
END:VCALENDAR