BEGIN:VCALENDAR
VERSION:2.0
PRODID:-//wp-events-plugin.com//7.2.3.1//EN
TZID:America/New_York
X-WR-TIMEZONE:America/New_York
BEGIN:VEVENT
UID:779@breathemiami.us
DTSTART;TZID=America/New_York:20240928T103000
DTEND;TZID=America/New_York:20240928T113000
DTSTAMP:20240825T123458Z
URL:https://breathemiami.us/events/doggy-yoga-for-a-good-cause/
SUMMARY:Doggy Yoga For A Good Cause
DESCRIPTION:Join us for a delightful and heartwarming event at Eden Roc Mia
 mi Beach\, where yoga meets canine companionship in a truly special way! T
 his unique Doggy Yoga session invites you to stretch\, relax\, and connect
  with your furry friend\, all while supporting the Animal Lovers Rescue\, 
 a dedicated nonprofit organization committed to animal welfare.\n\nEvent H
 ighlights:\n\n 	Outdoor Yoga Session: Embrace the beauty of nature with a 
 refreshing outdoor yoga class designed for you and your pup. Enjoy the ben
 efits of fresh air and sunshine as you and your dog engage in gentle stret
 ches and poses.\n 	Support a Worthy Cause: By participating\, you'll be co
 ntributing to the Animal Lovers Rescue\, helping them continue their vital
  work in animal rescue and care. Your involvement makes a difference in th
 e lives of animals in need.\n 	Bonding Time: This event provides a unique 
 opportunity to strengthen the bond with your dog while practicing yoga. Ex
 perience the joy of shared relaxation and mindfulness with your beloved pe
 t.\n 	What to Bring: To ensure your comfort and enjoyment\, please bring a
  yoga mat and a water bottle. A hat is also encouraged to protect yourself
  from the sun.\n\nCome and be part of this heartwarming experience\, where
  wellness meets philanthropy in a fun and engaging way. We look forward to
  seeing you and your four-legged friend at Eden Roc Miami Beach for a memo
 rable day of Doggy Yoga.\n\nGET TICKETS\n
ATTACH;FMTTYPE=image/jpeg:https://breathemiami.us/wp-content/uploads/2024/
 08/Doggy-Yoga-For-A-Good-Cause.jpg
CATEGORIES:Mindfulness Events,Things To Do,Wellness Events,Yoga Events
LOCATION:Eden Roc Miami Beach\, 4525 Collins Avenue\, Miami\, Florida\, 331
 40\, FL\, United States
X-APPLE-STRUCTURED-LOCATION;VALUE=URI;X-ADDRESS=4525 Collins Avenue\, Miami
 \, Florida\, 33140\, FL\, United States;X-APPLE-RADIUS=100;X-TITLE=Eden Ro
 c Miami Beach:geo:0,0
END:VEVENT
BEGIN:VTIMEZONE
TZID:America/New_York
X-LIC-LOCATION:America/New_York
BEGIN:DAYLIGHT
DTSTART:20240310T030000
TZOFFSETFROM:-0500
TZOFFSETTO:-0400
TZNAME:EDT
END:DAYLIGHT
END:VTIMEZONE
END:VCALENDAR