BEGIN:VCALENDAR
VERSION:2.0
PRODID:-//wp-events-plugin.com//7.2.3.1//EN
TZID:America/New_York
X-WR-TIMEZONE:America/New_York
BEGIN:VEVENT
UID:1000@breathemiami.us
DTSTART;TZID=America/New_York:20241013T180000
DTEND;TZID=America/New_York:20241013T200000
DTSTAMP:20241003T185026Z
URL:https://breathemiami.us/events/divine-feminine/
SUMMARY:Divine Feminine
DESCRIPTION:Divine Feminine is an empowering women's gathering that promise
 s to ignite the life force within and foster a sense of community through 
 breath\, movement\, and connection. Led by the dynamic duo\, Nicole Thaw a
 nd Stefanie Ungari\, this transformative evening invites participants to e
 ngage in practices that release stagnant energy and awaken their inner vit
 ality.\n\nThe event will focus on the Dance Shakti experience\, a celebrat
 ion of feminine energy that encourages participants to express themselves 
 through movement. This dance serves as a powerful means of self-exploratio
 n\, allowing women to reconnect with their bodies and embrace their authen
 tic selves. Through rhythmic movement and dance\, attendees will have the 
 opportunity to break free from sexual suppression and societal expectation
 s\, empowering them to fully inhabit their divine feminine essence.\n\nPar
 ticipants will also engage in Kundalini activation practices\, which invol
 ve breathwork and energy techniques aimed at unlocking creative potential 
 and enhancing personal empowerment. As the evening unfolds\, women will be
  guided to deepen their connection with their life force\, facilitating a 
 profound sense of liberation and self-discovery.\n\nCommunity will play a 
 vital role in this gathering\, creating a space where women can share thei
 r stories\, support one another\, and celebrate their unique journeys. Thi
 s collective energy will amplify the experience\, fostering a sense of bel
 onging and sisterhood among attendees.\n\nJoin Nicole and Stefanie for a n
 ight dedicated to honoring the divine feminine within. Together\, they wil
 l create an atmosphere of warmth\, acceptance\, and joy\, inviting partici
 pants to reclaim their power and embrace the fullness of their being. Don
 ’t miss this opportunity to awaken your life force and dance in celebrat
 ion of the divine feminine energy that resides within you.\n\nGET TICKETS\
 n
ATTACH;FMTTYPE=image/jpeg:https://breathemiami.us/wp-content/uploads/2024/
 10/Divine-Feminine.jpg
CATEGORIES:Things To Do,Wellness Events
LOCATION:The Standard Spa\, 40 Island Avenue Miami Beach\, Miami\, Florida\
 , 33139\, FL\, United States
X-APPLE-STRUCTURED-LOCATION;VALUE=URI;X-ADDRESS=40 Island Avenue Miami Beac
 h\, Miami\, Florida\, 33139\, FL\, United States;X-APPLE-RADIUS=100;X-TITL
 E=The Standard Spa:geo:0,0
END:VEVENT
BEGIN:VTIMEZONE
TZID:America/New_York
X-LIC-LOCATION:America/New_York
BEGIN:DAYLIGHT
DTSTART:20240310T030000
TZOFFSETFROM:-0500
TZOFFSETTO:-0400
TZNAME:EDT
END:DAYLIGHT
END:VTIMEZONE
END:VCALENDAR