BEGIN:VCALENDAR
VERSION:2.0
PRODID:-//wp-events-plugin.com//7.2.3.1//EN
TZID:America/New_York
X-WR-TIMEZONE:America/New_York
BEGIN:VEVENT
UID:183@breathemiami.us
DTSTART;TZID=America/New_York:20231207T193000
DTEND;TZID=America/New_York:20231207T230000
DTSTAMP:20240907T181940Z
URL:https://breathemiami.us/events/dinner-with-virgilio-martinez/
SUMMARY:Dinner with Virgilio Martínez
DESCRIPTION:American Express® and Delta SkyMiles® proudly present a speci
 al three-night dinner series at Untitled Art\, exclusively for Global Dini
 ng Access members. This event promises a unique three-hour gastronomic jou
 rney\, beginning with a selection of exquisite canapes and cocktails upon 
 arrival\, followed by a multi-course dinner expertly paired with fine wine
 s.\n\nThe series features the esteemed Peruvian Chef Virgilio Martínez\, 
 a visionary in the culinary world\, known for his groundbreaking approach 
 in fine dining. Chef Martínez's cuisine is a celebration of Peru's rich b
 iodiversity and cultural heritage\, exemplifying his commitment to integra
 ting nature and culture as guiding principles. His acclaimed restaurant\, 
 Central in Lima\, Peru\, co-led with Pía León\, has been recognized as t
 he #1 restaurant on the World’s 50 Best Restaurants list in 2023\, marki
 ng a significant achievement as the first restaurant from the Southern Hem
 isphere to earn this title.\n\nEvent Details:\n\n 	Open Premium Bar: An ar
 ray of premium alcoholic and non-alcoholic beverages will be available for
  guests.\n 	Reservations: Available for parties of two or four.\n 	Late Ar
 rivals: Guests arriving late will be seamlessly incorporated into the ongo
 ing course.\n 	Seasonal Menus: Menus may vary\, reflecting the seasonality
  of ingredients.\n\nThis event is a rare opportunity to experience Chef Vi
 rgilio Martínez's innovative and culturally rich cuisine\, offering an un
 forgettable dining experience.\nDinner with Virgilio Martínez\n$275 per 
 ticket\n\n\n 	Cocktails and canapés upon arrival​\n 	Multi-course seate
 d dinner and wine pairing ​\n 	Special Card Member gifting ​\n 	Meet &
 amp\; greet the chef\n\n&nbsp\;\n\n\n\nGET TICKETS\n
ATTACH;FMTTYPE=image/jpeg:https://breathemiami.us/wp-content/uploads/2023/
 11/jpg.jpeg
CATEGORIES:Food &amp; Drink Events,Things To Do
LOCATION:Untitled Art\, South Beach\, Miami\, 33127\, United States
X-APPLE-STRUCTURED-LOCATION;VALUE=URI;X-ADDRESS=South Beach\, Miami\, 33127
 \, United States;X-APPLE-RADIUS=100;X-TITLE=Untitled Art:geo:0,0
END:VEVENT
BEGIN:VTIMEZONE
TZID:America/New_York
X-LIC-LOCATION:America/New_York
BEGIN:STANDARD
DTSTART:20231105T010000
TZOFFSETFROM:-0400
TZOFFSETTO:-0500
TZNAME:EST
END:STANDARD
END:VTIMEZONE
END:VCALENDAR