BEGIN:VCALENDAR
VERSION:2.0
PRODID:-//wp-events-plugin.com//7.2.3.1//EN
TZID:America/New_York
X-WR-TIMEZONE:America/New_York
BEGIN:VEVENT
UID:1400@breathemiami.us
DTSTART;TZID=America/New_York:20251113T193000
DTEND;TZID=America/New_York:20251113T213000
DTSTAMP:20251110T174222Z
URL:https://breathemiami.us/events/dharma-healing-house-womens-circle/
SUMMARY:Dharma Healing House Women's Circle
DESCRIPTION:Cultivating Gratitude &amp\; Letting Go of Control\nHosted by D
 harma Healing House\nJoin us for Dharma Healing House’s Monthly Women’
 s Circle: Women Empowering Women — a heart-led gathering designed to nur
 ture connection\, sisterhood\, and self-awareness within your community.\n
 \nThis month’s theme centers on cultivating gratitude and positive minds
 et as we move into the holiday season. We know that being around family an
 d navigating expectations can sometimes bring stress or discomfort. Togeth
 er\, we’ll explore prompts and reflections on how to stay grounded\, pra
 ctice gratitude\, and release what we cannot control.\n\nThroughout histor
 y\, women have gathered in circles to honor their divine feminine and deep
 en sisterhood. This intentional space is created for all women to express 
 openly\, share authentically\, and embrace heart-expanding rituals that br
 ing clarity and peace.\n\n✨ What to Expect: • Ceremonial Cacao • Hea
 ling Water Sanctuary (sauna\, cold &amp\; hot plunge) • Guided Sharing C
 ircle &amp\; Journaling Prompts • Gratitude Practice &amp\; Positive Min
 dset Ritual\n\nPlease bring: a pillow\, towel\, bathing suit\, journal\, a
 nd any sacred items for the altar.\n\nExchange: $33 Location: Dharma Heali
 ng House – 235 NW 45th St\, Miami\, FL Cancellation Policy: No refunds\n
 \n&nbsp\;\nMeet the Founder: Namrata Milan Gandhi\n\n\n\nNimi Gandhi has a
 lways carried a dream close to her heart—to create a space where spiritu
 ality and wellness come together in harmony\, providing a sanctuary for pe
 ople to reconnect with themselves and each other.\n\n\n\n\n\n\nHer journey
  has taken her around the world\, from sacred ashrams in India to island l
 iving in Thailand\, where she studied with masters of Hinduism\, Buddhism\
 , yoga\, and Reiki. Through this deep immersion in ancient wisdom traditio
 ns\, she experienced profound healing from years of depression\, anxiety\,
  and panic disorder\, discovering the transformative power of holistic pra
 ctices.\n\n\n\n\n\n\nIn those quiet moments of transformation\, she realiz
 ed her dharma: to be a bridge between East and West\, sharing the ancient 
 wisdom that had so deeply changed her life. Dharma Healing House in Miami 
 is the beautiful manifestation of that vision—a place where community\, 
 spirituality\, and holistic well-being dance together in perfect harmony.\
 n\n\n\n\n\n\nThrough her passion for music\, community building\, and serv
 ice to others\, Nimi is committed to expanding this vision globally\, crea
 ting more healing centers where people can find not just healing and clari
 ty\, but a true sense of belonging and homecoming.\n\n\n\n\n\n\n&nbsp\;\n\
 n\n\n\n\n\n\n\n\n\nView this post on Instagram\n\n\n\n\n\n\n\n\n\n\n\n\n\n
 \n\n\n\n\n\n\n\n\n&nbsp\;\nA post shared by namrata milan gandhi (@nimswrl
 d)\n\n\n
ATTACH;FMTTYPE=image/jpeg:https://breathemiami.us/wp-content/uploads/2025/
 11/Dharma-Healing-House_Women-Empowering-Women.webp
CATEGORIES:Featured Events,Things To Do
LOCATION:Dharma Healing House\, 235 Northwest 45th Street \, Miami\, FL\, 3
 3127\, FL\, United States
X-APPLE-STRUCTURED-LOCATION;VALUE=URI;X-ADDRESS=235 Northwest 45th Street \
 , Miami\, FL\, 33127\, FL\, United States;X-APPLE-RADIUS=100;X-TITLE=Dharm
 a Healing House:geo:0,0
END:VEVENT
BEGIN:VTIMEZONE
TZID:America/New_York
X-LIC-LOCATION:America/New_York
BEGIN:STANDARD
DTSTART:20251102T010000
TZOFFSETFROM:-0400
TZOFFSETTO:-0500
TZNAME:EST
END:STANDARD
END:VTIMEZONE
END:VCALENDAR