BEGIN:VCALENDAR
VERSION:2.0
PRODID:-//wp-events-plugin.com//7.2.3.1//EN
TZID:America/New_York
X-WR-TIMEZONE:America/New_York
BEGIN:VEVENT
UID:64@breathemiami.us
DTSTART;TZID=America/New_York:20230926T193000
DTEND;TZID=America/New_York:20230926T213000
DTSTAMP:20240907T181840Z
URL:https://breathemiami.us/events/deeper-intimacy-tantra-for-couples/
SUMMARY:Deeper Intimacy: Tantra For Couples
DESCRIPTION:Join Michelle Alva for a journey to revitalize the joy\, connec
 tion\, and healthy sexual energy between yourself and your partner.\nNote:
  This workshop has a capacity of 8 pairs --&gt\; you are invited to bring 
 a romantic partner or a friend that is also curious to explore the philoso
 phy and practices of partner work. This also means you may not book this w
 orkshop as an individual.\n\nThere’s nothing more precious or powerful i
 n life than true intimacy with ourselves and those we love. Unfortunately 
 the stresses and traumas of everyday life get in the way of this transform
 ational intimacy.\n\nThankfully there are ancient practices to re-establis
 h this connection\, and modern science has proven them.\n\nFor centuries i
 n the east\, Tantra has been the path to liberation from fear\, shame\, gu
 ilt and isolation. Despite modern taboos or pre-conceived notions\, Tantra
  is about so much more than sex. It’s about reconnecting with your own s
 ource of unconditional LOVE.\n\nTantric practices teach us how to feel ful
 ly alive\, with a heightened sense of pleasure and self-awareness. When we
  awaken to the healing power of our own intimacy and being available to al
 l our sensations and emotions. We also get to experience the gifts of sacr
 ed sexuality\, and our intuitive intelligence.\n\nDuring this intimate exp
 erience\, Michelle will guide you through expansive tantric breathing\, ec
 static movement\, conscious touch\, authentic communication\, and intentio
 nal meditative experiences.\n\nClass will close with a soothing sound expe
 rience that includes drumming\, sound bowls\, Native American flutes\, and
  other instruments.\n\nImportant note: This workshop is fully clothed with
  exercises (only with the parter you join with) that are introductory\, co
 nsensual\, and non-mandatory and based in authentic communication.\n\nAphr
 odisiac Oils will be included to bring a heightened sense to each practice
 .\n\nEvery class participant will also receive complimentary access to Mic
 helle’s online course: Deeper Connection: Intro To Tantra For Couples Vi
 deo\, a $697 value for attending in person.\n\n\nGET TICKETS\n\n\nWho:\nMi
 ndset\, Energy\, Sex\, and Intimacy Coach Michelle Alva has a background i
 n physical therapy\, hypnosis\, NLP (neuro-linguistic programming)\, Time 
 Dynamics®\, tantra\, integrative yoga therapy\, sound healing\, PSYCH-K®
 \, mindfulness-based meditation\, belly dance\, and shamanism.\nParking:\n
 There is metered parking alongside the streets of Upper Buena Vista on NE 
 2nd Avenue as well as NE 50th Terrace. Do NOT park in residential zone - t
 hey do tow.\nBring:\nYou're invited to bring a refillable water bottle and
  an open heart.\nTickets:\nRegistration is Early Bird or General Admission
 \nExclusive Rates for Members:\nClick to explore the benefits and join a p
 lan.\n\n10% off this session with ŌMIE PLAN ($49 per year)\n10% off this 
 session with PRACTICE PLAN ($99 per month)\nThis session is included with 
 ACCESS PLAN ($199 per month)\nMindful Miles™️:\nThis session is worth 
 ❶ Mindful Mile (MM) --&gt\; get rewarded for your spiritual practice. Al
 l Members are enrolled into our “frequent flier” program for our Miami
  events.\n\n 	Every 10MM you earn\, receive a reward to celebrate your pra
 ctice\n 	Every 25MM you earn\, receive a MM status upgrade\, which comes w
 ith valuable perks\n\nOnline Resources:\nIf you cannot join us in person\,
  we have the following online resources available.\n\n 	Modern Medi Club -
  a friendly donation-based online meditation studio with classes daily at 
 8am\, 10am\, and 8pm. This online studio is FREE to join and can be joined
  separately from Miami plans.\n 	Cushion Crawl On Demand - 500 videos that
  were recorded over a period of 3 years by 120+ world-class facilitators. 
 Access to this Content Library is given with all Miami plans.\n\nFollow us
 : Instagram | TikTok | Miami Telegram\nABOUT MODERN ŌM\nModern ŌM has b
 een connecting community to world-class spiritual wellness programs since 
 2016. Our offerings include 30+ Miami event monthly\, retreats\, trainings
 \, online meditations via the Modern Medi Club\, and branded merchandise.\
 n\nConsider us your resource for spiritual wellness. We support an ever-ev
 olving community of entrepreneurs\, professionals\, and creatives that pri
 oritize their spiritual well-being. Join us in Miami and beyond.\nCOMMUNIT
 Y PRAISE\n"I love the community\, I love the vibe of Modern ŌM!!" - Seema
 \n\n"I highly recommend this membership - you will not regret it!" - Nadin
 e\n\n“You can really tell Modern ŌM truly truly cares about its communi
 ty and the conscious evolution of its members. Thank you!” - Alessandra\
 n\n[embed]https://youtu.be/xDMb6_qmhDY[/embed]\n\n\n\n
ATTACH;FMTTYPE=image/jpeg:https://breathemiami.us/wp-content/uploads/2023/
 09/deeper-intimacy-tantra-for-couples-featured.jpeg
CATEGORIES:Mindfulness Events,Things To Do,Wellness Events
LOCATION:Modern ŌM Bungalow\, 5020 Northeast 2nd Avenue\, Miami\, FL\, 331
 37\, United States
X-APPLE-STRUCTURED-LOCATION;VALUE=URI;X-ADDRESS=5020 Northeast 2nd Avenue\,
  Miami\, FL\, 33137\, United States;X-APPLE-RADIUS=100;X-TITLE=Modern ŌM 
 Bungalow:geo:0,0
END:VEVENT
BEGIN:VTIMEZONE
TZID:America/New_York
X-LIC-LOCATION:America/New_York
BEGIN:DAYLIGHT
DTSTART:20230312T030000
TZOFFSETFROM:-0500
TZOFFSETTO:-0400
TZNAME:EDT
END:DAYLIGHT
END:VTIMEZONE
END:VCALENDAR