BEGIN:VCALENDAR
VERSION:2.0
PRODID:-//wp-events-plugin.com//7.2.3.1//EN
TZID:America/New_York
X-WR-TIMEZONE:America/New_York
BEGIN:VEVENT
UID:215@breathemiami.us
DTSTART;TZID=America/New_York:20231214T193000
DTEND;TZID=America/New_York:20231214T213000
DTSTAMP:20240221T025143Z
URL:https://breathemiami.us/events/deeper-intimacy-tantra-for-couples-in-m
 iami/
SUMMARY:Deeper Intimacy: Tantra For Couples
DESCRIPTION:Event Information:\n\nJoin Michelle Alva for a transformative j
 ourney\, delving into the realms of joy\, connection\, and fostering healt
 hy sexual energy between you and your partner.\n\nDate and Time:December 1
 4 · 7:30 - 9:30pm EST\n\nAbout this event:\n\n 	Immerse yourself in the w
 orld of "Deeper Intimacy: Tantra For Couples" with Michelle Alva\, a Minds
 et\, Energy\, Sex\, and Intimacy Coach. This transformative journey aims t
 o revitalize the joy\, connection\, and healthy sexual energy between your
 self and your partner. Explore ancient tantric practices that lead to libe
 ration from fear\, shame\, guilt\, and isolation\, fostering a deeper conn
 ection and unconditional love.\n\nDuration: 2 hour\n\nTicket Information:\
 n\n 	Mobile eTicket: This workshop has a capacity of 8 pairs\, requiring a
 ttendees to bring a romantic partner or a friend curious about exploring p
 artner work. Individuals cannot book this workshop.\n\n\nGET TICKETS\n\n\n
 Workout Session Details:\n\n 	Experience expansive tantric breathing\, ecs
 tatic movement\, conscious touch\, authentic communication\, and intention
 al meditative practices. The workshop\, fully clothed\, includes introduct
 ory\, consensual\, and non-mandatory exercises with your partner\, promoti
 ng authentic communication. Aphrodisiac oils will heighten the experience\
 , and the class will close with a soothing sound session featuring drummin
 g\, sound bowls\, Native American flutes\, and other instruments.\n\nEssen
 tials to Bring:\n\n 	Refillable water bottle\n 	Open heart\n\nParking Opti
 ons:\n\n 	Metered parking is available alongside the streets of Upper Buen
 a Vista on NE 2nd Avenue and NE 50th Terrace. Avoid parking in residential
  zones\, as towing may occur.\n
ATTACH;FMTTYPE=image/jpeg:https://breathemiami.us/wp-content/uploads/2023/
 12/https___cdn.evbuc_.com_images_645880709_1145507310493_1_original.jpg
CATEGORIES:Wellness Events
LOCATION:Modern ŌM Bungalow\, 5020 Northeast 2nd Avenue\, Miami\, FL\, 331
 37\, United States
X-APPLE-STRUCTURED-LOCATION;VALUE=URI;X-ADDRESS=5020 Northeast 2nd Avenue\,
  Miami\, FL\, 33137\, United States;X-APPLE-RADIUS=100;X-TITLE=Modern ŌM 
 Bungalow:geo:0,0
END:VEVENT
BEGIN:VTIMEZONE
TZID:America/New_York
X-LIC-LOCATION:America/New_York
BEGIN:STANDARD
DTSTART:20231105T010000
TZOFFSETFROM:-0400
TZOFFSETTO:-0500
TZNAME:EST
END:STANDARD
END:VTIMEZONE
END:VCALENDAR