BEGIN:VCALENDAR
VERSION:2.0
PRODID:-//wp-events-plugin.com//7.2.3.1//EN
TZID:America/New_York
X-WR-TIMEZONE:America/New_York
BEGIN:VEVENT
UID:863@breathemiami.us
DTSTART;TZID=America/New_York:20241021T080000
DTEND;TZID=America/New_York:20241021T120000
DTSTAMP:20240915T092734Z
URL:https://breathemiami.us/events/day-retreat-harmony-in-motion-yoga-spa-
 hydrotherapy/
SUMMARY:Day Retreat - Harmony in Motion (YOGA & SPA HYDROTHERAPY)
DESCRIPTION:Welcome to Harmony in Motion\, an immersive day retreat designe
 d to harmonize your mind\, body\, and spirit through Yoga\, Hydrotherapy\,
  and Sound Meditation. Hosted at the serene Jardin Secret Outdoor Wellness
  Spa\, located at 5300 Woodlands Blvd\, this event offers a comprehensive 
 journey into holistic wellness.\n\nEvent Highlights:\n\n 	Yoga Session: Be
 gin with a gentle flow of yoga\, designed to guide you into deep relaxatio
 n and physical awareness. Allow the practice to align your body and mind\,
  setting the stage for a restorative experience.\n 	Hydrotherapy: Immerse 
 yourself in the soothing embrace of hydrotherapy. The therapeutic water tr
 eatments are crafted to refresh your senses\, relieve muscle tension\, and
  promote overall relaxation.\n 	Sound Meditation: Experience the transform
 ative power of sound meditation. Let the resonant vibrations of carefully 
 selected instruments elevate your spirit and carry you to a state of inner
  tranquility.\n\nThis unique retreat blends movement\, water\, and sound t
 o provide a holistic experience that cleanses your body\, calms your mind\
 , and uplifts your spirit. The day is thoughtfully designed to renew your 
 energy\, restore your balance\, and deepen your connection to your inner s
 elf.\n\nIn this serene and nurturing environment\, you’ll have the chanc
 e to heal\, grow\, and celebrate wellness through practices that honor the
  art of self-care. Join us for an unforgettable day of rejuvenation and di
 scover the profound benefits of integrating yoga\, hydrotherapy\, and soun
 d meditation into your wellness journey.\n\nGET TICKETS\n
ATTACH;FMTTYPE=image/jpeg:https://breathemiami.us/wp-content/uploads/2024/
 09/Day-Retreat-Harmony-in-Motion-YOGA-SPA-HYDROTHERAPY.jpg
CATEGORIES:Things To Do,Wellness Events
LOCATION:Fort Lauderdale\, 5300 Woodlands Boulevard Tamarac\, Miami\, Flori
 da\, 33319\, FL\, United States
X-APPLE-STRUCTURED-LOCATION;VALUE=URI;X-ADDRESS=5300 Woodlands Boulevard Ta
 marac\, Miami\, Florida\, 33319\, FL\, United States;X-APPLE-RADIUS=100;X-
 TITLE=Fort Lauderdale:geo:0,0
END:VEVENT
BEGIN:VTIMEZONE
TZID:America/New_York
X-LIC-LOCATION:America/New_York
BEGIN:DAYLIGHT
DTSTART:20240310T030000
TZOFFSETFROM:-0500
TZOFFSETTO:-0400
TZNAME:EDT
END:DAYLIGHT
END:VTIMEZONE
END:VCALENDAR