BEGIN:VCALENDAR
VERSION:2.0
PRODID:-//wp-events-plugin.com//7.2.3.1//EN
TZID:America/New_York
X-WR-TIMEZONE:America/New_York
BEGIN:VEVENT
UID:270@breathemiami.us
DTSTART;TZID=America/New_York:20240101T130000
DTEND;TZID=America/New_York:20240101T141500
DTSTAMP:20231227T203504Z
URL:https://breathemiami.us/events/day-1-at-1/
SUMMARY:Day 1 at 1
DESCRIPTION:Event Information:\n\nEmbark on an extraordinary journey with "
 Day 1 at 1" – a transformative event taking place on Monday\, January 1\
 , 2024\, from 1:00 PM to 2:15 PM EST at the picturesque Ocean Terrace of 1
  Hotel South Beach.\n\nImmerse yourself in a 1 hour 15-minute experience l
 ike no other\, where we invite you to participate in community energy clea
 ring\, mindful movement\, and the setting of new year intentions. Guided b
 y meditation\, breathwork\, sound healing\, and rhythmic movement to curat
 ed beats\, this event promises a unique fusion of wellness and celebration
 .\n\nSecure your spot with a Mobile eTicket and join us for an invigoratin
 g start to the new year. Please note that tickets are non-refundable and n
 on-transferable.\n\nAs you attend "Day 1 at 1\," you willingly grant us pe
 rmission to capture the essence of this memorable journey through photogra
 phy and recorded videos for promotional purposes. Come ready to embrace po
 sitivity\, mindfulness\, and the boundless possibilities that the new year
  holds.\n\nDate and Time:Monday\, January 1\, 2024 · 1 - 2:15pm EST\n\nAb
 out this event:\n\n 	Embark on a unique journey on Day 1 at 1! Join us for
  a captivating experience featuring community energy clearing\, mindful mo
 vement\, and new year intention setting. This immersive session incorporat
 es meditation\, breathwork\, sound healing\, and movement set to curated b
 eats\, lasting for 1 hour and 15 minutes. Please note that no refunds or t
 icket transfers are available for this event.\n\nDuration: 1 hour 15 minut
 es\n\nTicket Information:\n\n 	Ticket Type: Mobile eTicket\n\n\nGET TICKET
 S\n\n\nWorkout Session Details:\n\n 	Activities:\n\n 	Community energy cle
 aring\n 	Mindful movement\n 	New year intention setting\n 	Meditation\n 	B
 reathwork\n 	Sound healing\n 	Movement to curated beats\n\n\n\nEssentials 
 to Bring:\n\n 	Participants are encouraged to bring their positive energy 
 and an open mind.\n\nParking Options:\n\n 	Details about parking options a
 re not provided in the content.\n
ATTACH;FMTTYPE=image/jpeg:https://breathemiami.us/wp-content/uploads/2023/
 12/https___cdn.evbuc_.com_images_659647089_261227402654_1_original.jpg
CATEGORIES:Things To Do,Wellness Events
LOCATION:Ocean Terrace at 1 Hotel South Beach\, 2341 Collins Avenue Miami B
 each\,\, Miami Beach\,\, FL\, 33139 \, United States
X-APPLE-STRUCTURED-LOCATION;VALUE=URI;X-ADDRESS=2341 Collins Avenue Miami B
 each\,\, Miami Beach\,\, FL\, 33139 \, United States;X-APPLE-RADIUS=100;X-
 TITLE=Ocean Terrace at 1 Hotel South Beach:geo:0,0
END:VEVENT
BEGIN:VTIMEZONE
TZID:America/New_York
X-LIC-LOCATION:America/New_York
BEGIN:STANDARD
DTSTART:20231105T010000
TZOFFSETFROM:-0400
TZOFFSETTO:-0500
TZNAME:EST
END:STANDARD
END:VTIMEZONE
END:VCALENDAR