BEGIN:VCALENDAR
VERSION:2.0
PRODID:-//wp-events-plugin.com//7.2.3.1//EN
TZID:America/New_York
X-WR-TIMEZONE:America/New_York
BEGIN:VEVENT
UID:1029@breathemiami.us
DTSTART;TZID=America/New_York:20241105T200000
DTEND;TZID=America/New_York:20241105T210000
DTSTAMP:20241010T150149Z
URL:https://breathemiami.us/events/dance-it-off-hip-hop-fitness/
SUMMARY:Dance It Off - Hip Hop Fitness
DESCRIPTION:Dance It Off - Hip Hop Fitness offers an exciting solution for 
 those struggling to find motivation to go to the gym. This engaging progra
 m combines the infectious energy of hip-hop with fitness routines\, making
  exercise enjoyable and effective. Participants can let loose\, express th
 emselves through dance\, and work up a sweat\, all while fostering a suppo
 rtive community atmosphere. It's not just about staying in shape\; it's ab
 out having fun and embracing a vibrant lifestyle. Whether a seasoned dance
 r or a complete beginner\, everyone is welcome to join the movement and ex
 perience the joy of fitness through dance!\n\nGET TICKETS\n
ATTACH;FMTTYPE=image/jpeg:https://breathemiami.us/wp-content/uploads/2024/
 10/Dance-It-Off-Hip-Hop-Fitness-1.jpg
CATEGORIES:Wellness Events
LOCATION:10954 SW 184th St\, 10954 Southwest 184th Street\, Cutler Bay\, Fl
 orida\, 33157\, FL \, United States
X-APPLE-STRUCTURED-LOCATION;VALUE=URI;X-ADDRESS=10954 Southwest 184th Stree
 t\, Cutler Bay\, Florida\, 33157\, FL \, United States;X-APPLE-RADIUS=100;
 X-TITLE=10954 SW 184th St:geo:0,0
END:VEVENT
BEGIN:VTIMEZONE
TZID:America/New_York
X-LIC-LOCATION:America/New_York
BEGIN:STANDARD
DTSTART:20241103T010000
TZOFFSETFROM:-0400
TZOFFSETTO:-0500
TZNAME:EST
END:STANDARD
END:VTIMEZONE
END:VCALENDAR