BEGIN:VCALENDAR
VERSION:2.0
PRODID:-//wp-events-plugin.com//7.2.3.1//EN
TZID:America/New_York
X-WR-TIMEZONE:America/New_York
BEGIN:VEVENT
UID:847@breathemiami.us
DTSTART;TZID=America/New_York:20241026T200000
DTEND;TZID=America/New_York:20241026T220000
DTSTAMP:20240910T094916Z
URL:https://breathemiami.us/events/creepy-clown-carnival-haunted-house/
SUMMARY:Creepy Clown Carnival Haunted House
DESCRIPTION:Prepare for a night of heart-pounding terror at ADAPT’s Creep
 y Clown Carnival Haunted House! Enter a nightmarish world where sinister c
 lowns lurk in every shadow\, ready to confront your deepest fears with chi
 lling surprises and spine-tingling frights. This haunted house experience 
 promises to be a test of courage for even the bravest souls. Will you mana
 ge to survive the horror?\n\nEvent Details:\n\n 	Haunted House Hours: 8:00
  PM - 10:00 PM\n 	Ticket Prices: $7.50 online\, $10 at the door\n\nBut the
  scares don't start there! Before diving into the haunted house\, join us 
 for a FREE Halloween Party from 6:00 PM to 10:00 PM. Enjoy a festive eveni
 ng packed with:\n\n 	Trick-or-Treating: Gather delicious treats and enjoy 
 the Halloween spirit.\n 	Prizes and Giveaways: Enter for a chance to win e
 xciting prizes throughout the night.\n 	Spooky Decorations: Immerse yourse
 lf in the eerie atmosphere with our chilling decor.\n 	Fun Activities: Par
 ticipate in a variety of engaging activities suitable for all ages.\n\nWhe
 ther you come for the festive pre-show or the heart-stopping haunted house
 \, this event promises a Halloween to remember. Join the ADAPT Family for 
 an unforgettable night of thrills and chills!\n\n\nGET TICKETS\n
ATTACH;FMTTYPE=image/jpeg:https://breathemiami.us/wp-content/uploads/2024/
 09/Creepy-Clown-Carnival-Haunted-House.jpg
CATEGORIES:Things To Do
LOCATION:ADAPT\, 14901 Northeast 20th Avenue North Miami\, Miami\, Florida\
 , 33181\, FL\, United States
X-APPLE-STRUCTURED-LOCATION;VALUE=URI;X-ADDRESS=14901 Northeast 20th Avenue
  North Miami\, Miami\, Florida\, 33181\, FL\, United States;X-APPLE-RADIUS
 =100;X-TITLE=ADAPT:geo:0,0
END:VEVENT
BEGIN:VTIMEZONE
TZID:America/New_York
X-LIC-LOCATION:America/New_York
BEGIN:DAYLIGHT
DTSTART:20240310T030000
TZOFFSETFROM:-0500
TZOFFSETTO:-0400
TZNAME:EDT
END:DAYLIGHT
END:VTIMEZONE
END:VCALENDAR