BEGIN:VCALENDAR
VERSION:2.0
PRODID:-//wp-events-plugin.com//7.2.3.1//EN
TZID:America/New_York
X-WR-TIMEZONE:America/New_York
BEGIN:VEVENT
UID:795@breathemiami.us
DTSTART;TZID=America/New_York:20240919T183000
DTEND;TZID=America/New_York:20240919T203000
DTSTAMP:20240826T185003Z
URL:https://breathemiami.us/events/creative-yoga-flow/
SUMMARY:Creative Yoga Flow
DESCRIPTION:Discover the synergy of movement and art at the Creative Yoga F
 low event\, hosted at the vibrant Zapata Art Gallery. This unique experien
 ce invites participants to delve into their inner creativity through an em
 powering yoga practice\, seamlessly blending physical expression with the 
 artistic spirit.\n\nBegin your journey on the mat\, where you'll flow thro
 ugh a series of stretches and mindful breaths\, designed to unlock both ph
 ysical and creative energy. As you move\, you’ll find your inner artist 
 awakening\, setting the stage for the next part of the event—a hands-on 
 mala bead bracelet creation. Choose from a carefully curated selection of 
 gemstones\, each chosen to enhance creativity and intuition\, and craft a 
 piece that’s uniquely yours.\n\nNo prior experience in yoga or jewelry-m
 aking is necessary—just come with positive energy and an open mind. All 
 art supplies will be provided\, and mats are available for rent if needed.
  Whether you’re looking to unwind after a long day\, enjoy a memorable d
 ate night\, or spend quality time with friends or family\, this event offe
 rs a perfect blend of relaxation and creativity.\n\nCreative Yoga Flow is 
 more than just a yoga class\; it's an invitation to tap into your inner ze
 n and express yourself in new and meaningful ways. Join us at the Zapata A
 rt Gallery\, and let your creativity flow both on and off the mat. We can
 ’t wait to see you there!\n\nGET TICKETS\n
ATTACH;FMTTYPE=image/jpeg:https://breathemiami.us/wp-content/uploads/2024/
 08/Creative-Yoga-Flow.jpg
CATEGORIES:Mindfulness Events,Things To Do,Wellness Events,Yoga Events
LOCATION:Zapata Art Gallery\, 1333 Southwest 22nd Street \, Miami\, Florida
 \, 33145\, FL\, United States
X-APPLE-STRUCTURED-LOCATION;VALUE=URI;X-ADDRESS=1333 Southwest 22nd Street 
 \, Miami\, Florida\, 33145\, FL\, United States;X-APPLE-RADIUS=100;X-TITLE
 =Zapata Art Gallery:geo:0,0
END:VEVENT
BEGIN:VTIMEZONE
TZID:America/New_York
X-LIC-LOCATION:America/New_York
BEGIN:DAYLIGHT
DTSTART:20240310T030000
TZOFFSETFROM:-0500
TZOFFSETTO:-0400
TZNAME:EDT
END:DAYLIGHT
END:VTIMEZONE
END:VCALENDAR