BEGIN:VCALENDAR
VERSION:2.0
PRODID:-//wp-events-plugin.com//7.2.3.1//EN
TZID:America/New_York
X-WR-TIMEZONE:America/New_York
BEGIN:VEVENT
UID:875@breathemiami.us
DTSTART;TZID=America/New_York:20240919T183000
DTEND;TZID=America/New_York:20240919T203000
DTSTAMP:20240917T065021Z
URL:https://breathemiami.us/events/creative-yoga-flow-in-an-art-studio-in-
 coral-gables/
SUMMARY:Creative Yoga Flow in an Art Studio in Coral Gables
DESCRIPTION:Unlock your inner creativity and unwind at Zapata Art Gallery w
 ith a unique yoga experience that blends movement and artistic expression.
  This event offers a rejuvenating yoga flow session designed to ignite bot
 h body and mind\, followed by a hands-on art activity to further explore y
 our creative potential.\n\nEvent Highlights:\n\n 	Empowering Yoga Practice
 : Begin with an invigorating yoga flow where you’ll stretch\, breathe\, 
 and move through poses that foster relaxation and self-expression. Whether
  you're a beginner or an experienced yogi\, this class is perfect for anyo
 ne seeking to align their body and mind in a tranquil\, artistic environme
 nt.\n 	Create Your Own Mala Beads Bracelet: After the yoga session\, tap i
 nto your artistic side by creating a personalized mala beads bracelet. Cho
 ose from a curated collection of gemstones known to awaken creativity and 
 intuition. This meditative activity will leave you with a beautiful keepsa
 ke\, reminding you of the peace and creativity cultivated during the sessi
 on.\n 	Artistic Ambiance: The vibrant and inspiring setting of Zapata Art 
 Gallery in Coral Gables is the perfect backdrop for both yoga and creativi
 ty. Surrounded by beautiful artwork\, you’ll feel a deep connection betw
 een body\, mind\, and artistic expression.\n 	No Experience Required: Whet
 her you’re new to yoga or a seasoned pro\, and regardless of your artist
 ic experience\, this event is open to all. Just bring your positive energy
  and an open mind. Mats are available for rent\, and all art supplies will
  be provided.\n\nPerfect for:\n\n 	Date night\n 	Girls' night out\n 	Famil
 y bonding time\n 	Anyone looking to tap into their inner zen and creativit
 y!\n\nJoin us for this transformative experience where yoga meets art\, an
 d leave feeling relaxed\, inspired\, and creatively fulfilled. Reserve you
 r spot today!\n\nGET TICKETS\n
ATTACH;FMTTYPE=image/jpeg:https://breathemiami.us/wp-content/uploads/2024/
 09/Creative-Yoga-Flow-in-an-Art-Studio-in-Coral-Gables.jpg
CATEGORIES:Things To Do,Wellness Events,Yoga Events
END:VEVENT
BEGIN:VTIMEZONE
TZID:America/New_York
X-LIC-LOCATION:America/New_York
BEGIN:DAYLIGHT
DTSTART:20240310T030000
TZOFFSETFROM:-0500
TZOFFSETTO:-0400
TZNAME:EDT
END:DAYLIGHT
END:VTIMEZONE
END:VCALENDAR