BEGIN:VCALENDAR
VERSION:2.0
PRODID:-//wp-events-plugin.com//7.2.3.1//EN
TZID:America/New_York
X-WR-TIMEZONE:America/New_York
BEGIN:VEVENT
UID:208@breathemiami.us
DTSTART;TZID=America/New_York:20231210T173000
DTEND;TZID=America/New_York:20231210T193000
DTSTAMP:20231206T125031Z
URL:https://breathemiami.us/events/creative-movement-the-experience/
SUMMARY:Creative Movement: The Experience
DESCRIPTION:Event Information:\n\nEmbark on a transformative odyssey with A
 shli Katz as your guide in a holistic moving meditation\, forging connecti
 ons to the self\, the source\, and the community through the rhythmic syne
 rgy of breath\, dance\, and yoga. Ashli\, a dynamic and visionary fitness 
 professional\, orchestrates a mesmerizing symphony of movement and self-di
 scovery. This unique experience is meticulously designed to harmonize the 
 essence of breath\, the liberating power of dance\, and the grounding prac
 tice of yoga. Join Ashli in this captivating journey\, where the fluidity 
 of your movements becomes a conduit for a deeper connection to your inner 
 self\, the universal source\, and the vibrant community surrounding you. L
 et the transformative energy of this holistic moving meditation guide you 
 towards an elevated state of mindfulness and well-being.\n\nDate and Time:
  December 10 · 5:30 - 7:30pm EST\n\nAbout this event:\n\nEmbark on a tra
 nsformative journey with Ashli Katz in "Creative Movement: The Experience\
 ," a two-hour moving meditation that fosters a profound connection to self
 \, source\, and community. This unique experience integrates breathwork\, 
 dance celebration\, yoga\, and meditation\, creating a thoughtfully curate
 d blend of breath\, beats\, sound\, and soul.\n\nDuration: 2 hour\n\nTicke
 t Information:\n\nRegistration options: Early Bird or General Admission\n\
 nGET TICKETS\n\n\nWorkout Session Details:\n\n 	Moving meditation experien
 ce\n 	Connection to self\, source\, and community\n 	Elements: Breathwork\
 , dance celebration\, yoga\, and meditation\n\nEssentials to Bring:\n\n 	Y
 oga mat\n 	Comfortable clothing\n 	Refillable water bottle\n 	Open heart\n
 \nParking Options:\n\n 	Metered parking alongside the streets of Upper Bue
 na Vista on NE 2nd Avenue and NE 50th Terrace.\n 	Avoid parking in residen
 tial zones\, as they tow.\n
ATTACH;FMTTYPE=image/jpeg:https://breathemiami.us/wp-content/uploads/2023/
 12/https___cdn.evbuc_.com_images_651852549_1145507310493_1_original.jpg
CATEGORIES:Wellness Events,Yoga Events
LOCATION:Modern ŌM Bungalow\, 5020 Northeast 2nd Avenue Miami\,\, Avenue M
 iami\,\,  United States\, 33137\,  FL \, United States
X-APPLE-STRUCTURED-LOCATION;VALUE=URI;X-ADDRESS=5020 Northeast 2nd Avenue M
 iami\,\, Avenue Miami\,\,  United States\, 33137\,  FL \, United States;X-
 APPLE-RADIUS=100;X-TITLE=Modern ŌM Bungalow:geo:0,0
END:VEVENT
BEGIN:VTIMEZONE
TZID:America/New_York
X-LIC-LOCATION:America/New_York
BEGIN:STANDARD
DTSTART:20231105T010000
TZOFFSETFROM:-0400
TZOFFSETTO:-0500
TZNAME:EST
END:STANDARD
END:VTIMEZONE
END:VCALENDAR