BEGIN:VCALENDAR
VERSION:2.0
PRODID:-//wp-events-plugin.com//7.2.3.1//EN
TZID:America/New_York
X-WR-TIMEZONE:America/New_York
BEGIN:VEVENT
UID:298@breathemiami.us
DTSTART;TZID=America/New_York:20240125T160000
DTEND;TZID=America/New_York:20240128T113000
DTSTAMP:20231227T200300Z
URL:https://breathemiami.us/events/couples-retreat/
SUMMARY:Pre-Marital Couples Retreat at Hacienda Wellness
DESCRIPTION:Event Information:\n\n\n\n\n\n\n\n\n\n\n\n\n\n\n\n\n\n\n\n\n\n\
 n\n\n\nEmbark on a transformative journey with our Pre-Marital Couples Ret
 reat at Hacienda Wellness. Crafted for couples on the brink of matrimony\,
  this enriching encounter is meticulously designed to fortify emotional co
 nnections\, elevate communication skills\, and cultivate a robust foundati
 on for a lasting partnership. Leveraging the principles of nurturing and e
 mpathy\, the experience aims to provide engaged couples with the tools and
  insights necessary to navigate the complexities of married life\, fosteri
 ng a deep and enduring bond that withstands the test of time. Join us for 
 a retreat that goes beyond the ordinary\, preparing you for a marriage bui
 lt on strength\, understanding\, and lasting love.\n\n\n\n\n\n\n\n\n\n\n\n
 \n\n\n\n\n\n\n\n\n\n\n\n\n\nDate and Time:January 25\, 2024 · 4pm - Janua
 ry 28\, 2024 · 11:30am PST\n\nAbout this event:\n\n 	The Pre-Marital Coup
 les Retreat at Hacienda Wellness is tailored for engaged couples seeking t
 o strengthen their bonds\, enhance communication\, and build a solid found
 ation for a lifelong partnership. This immersive experience spans three da
 ys and two nights\, offering engaging workshops and discussions led by exp
 erienced facilitators. Topics covered include communication\, conflict res
 olution\, shared values\, and goal-setting. Through heartfelt exercises an
 d shared experiences\, couples will deepen their intimacy and craft a visi
 on for their future together. This transformative journey aims to pave the
  way towards a strong and successful marriage.\n\nTotal Duration: 3 Days\n
 \nTicket Information:\n\n 	Focus: Unlocking your child's mental wellness t
 hrough mindfulness practices.\n 	Content: Proven strategies\, confidence-b
 uilding techniques\, and practical mindfulness tools.\n\n\nGET TICKETS\n\n
 \nWorkout Session Details:\n\n 	The retreat encompasses a variety of engag
 ing workshops and discussions led by experienced facilitators. Topics incl
 ude communication\, conflict resolution\, shared values\, and goal-setting
 . These sessions are designed to strengthen the bonds between engaged coup
 les and provide them with essential tools for a successful marriage.\n\nEs
 sentials to Bring:\n\n 	Participants are encouraged to bring an open heart
  and a willingness to engage in heartfelt exercises and shared experiences
 . Specific materials or requirements will be communicated by the organizer
  closer to the event date.\n\nParking Options:\n\n 	Parking is available a
 t the Vineyard Hacienda venue. Participants will have convenient access to
  parking facilities to ensure a smooth and hassle-free experience througho
 ut the retreat.\n
ATTACH;FMTTYPE=image/jpeg:https://breathemiami.us/wp-content/uploads/2023/
 12/https___cdn.evbuc_.com_images_659457999_409568509213_1_original.jpg
CATEGORIES:Wellness Events
LOCATION:Vineyard Hacienda\, 12685 Campo Road Spring Valley\, \, Spring Val
 ley\, CA \, 91978\,  United States\, United States
X-APPLE-STRUCTURED-LOCATION;VALUE=URI;X-ADDRESS=12685 Campo Road Spring Val
 ley\, \, Spring Valley\, CA \, 91978\,  United States\, United States;X-AP
 PLE-RADIUS=100;X-TITLE=Vineyard Hacienda:geo:0,0
END:VEVENT
BEGIN:VTIMEZONE
TZID:America/New_York
X-LIC-LOCATION:America/New_York
BEGIN:STANDARD
DTSTART:20231105T010000
TZOFFSETFROM:-0400
TZOFFSETTO:-0500
TZNAME:EST
END:STANDARD
END:VTIMEZONE
END:VCALENDAR