BEGIN:VCALENDAR
VERSION:2.0
PRODID:-//wp-events-plugin.com//7.2.3.1//EN
TZID:America/New_York
X-WR-TIMEZONE:America/New_York
BEGIN:VEVENT
UID:1155@breathemiami.us
DTSTART;TZID=America/New_York;VALUE=DATE:20241109
DTEND;TZID=America/New_York;VALUE=DATE:20241111
DTSTAMP:20241023T103845Z
URL:https://breathemiami.us/events/country-bay-music-festival/
SUMMARY:Country Bay Music Festival
DESCRIPTION:Prepare to kick up your boots at the 2nd annual Country Bay Mus
 ic Festival\, happening November 9-10\, 2024\, at the iconic Miami Marine 
 Stadium. This two-day event is packed with the best of country music\, bri
 nging fans an unforgettable weekend of live performances and good times by
  the bay.\n\nThe star-studded lineup this year includes country heavyweigh
 ts like Zac Brown Band\, Carrie Underwood\, Dustin Lynch\, Chase Rice\, an
 d Chris Janson\, among others. As a special twist\, electronic music star 
 Diplo will also join the festival\, performing under his country-inspired 
 alias Thomas Wesley.\n\nBeyond the music\, festival-goers can enjoy a full
  carnival experience\, complete with rides\, a lively beer garden\, and pl
 enty of Instagram-worthy photo opportunities to capture those festival mem
 ories. With a variety of food vendors serving delicious eats and ice-cold 
 drinks\, you’ll have everything you need to keep the party going all wee
 kend long.\n\nFor those looking to elevate their experience\, VIP packages
  are available\, offering exclusive perks like access to private lounges\,
  gourmet food options\, and special festival swag.\n\nWhether you're a cou
 ntry music die-hard or just looking for a fun-filled weekend by the water\
 , the Country Bay Music Festival is the place to be!\n\nGET TICKETS\n
ATTACH;FMTTYPE=image/jpeg:https://breathemiami.us/wp-content/uploads/2024/
 10/Country-Bay-Music-Festival.webp
CATEGORIES:Things To Do
LOCATION:Miami Marine Stadium\, 3501 Rickenbacker Causeway\, Miami\, Florid
 a\, 33149\,  FL \, United States
X-APPLE-STRUCTURED-LOCATION;VALUE=URI;X-ADDRESS=3501 Rickenbacker Causeway\
 , Miami\, Florida\, 33149\,  FL \, United States;X-APPLE-RADIUS=100;X-TITL
 E=Miami Marine Stadium:geo:0,0
END:VEVENT
BEGIN:VTIMEZONE
TZID:America/New_York
X-LIC-LOCATION:America/New_York
BEGIN:STANDARD
DTSTART:20241103T010000
TZOFFSETFROM:-0400
TZOFFSETTO:-0500
TZNAME:EST
END:STANDARD
END:VTIMEZONE
END:VCALENDAR