BEGIN:VCALENDAR
VERSION:2.0
PRODID:-//wp-events-plugin.com//7.2.3.1//EN
TZID:America/New_York
X-WR-TIMEZONE:America/New_York
BEGIN:VEVENT
UID:1021@breathemiami.us
DTSTART;TZID=America/New_York:20241030T070000
DTEND;TZID=America/New_York:20241030T083000
DTSTAMP:20241008T090102Z
URL:https://breathemiami.us/events/corporate-yoga-wellness-sessions-for-re
 treats-confrences-and-more/
SUMMARY:Corporate Yoga & Wellness Sessions : for retreats\, confrences\, an
 d more.
DESCRIPTION:Corporate Yoga &amp\; Wellness Sessions provide a transformativ
 e experience for retreats\, conferences\, and team-building events. Fort L
 auderdale's top choice for beach yoga and fitness\, these sessions are des
 igned to bring a rejuvenating and stress-reducing experience to corporate 
 environments. Whether it's at a company retreat\, conference\, or large-sc
 ale convention\, Lisa Pumper\, a renowned South Florida yoga educator with
  over 15 years of experience\, leads a dedicated team to deliver wellness 
 and mindfulness practices tailored to your event.\n\nBy incorporating yoga
  and meditation\, your attendees will gain the ability to re-focus\, reduc
 e stress and fatigue\, and cultivate a balanced\, calm energy. Lisa and he
 r team have expertise in creating both indoor and outdoor sessions\, perfe
 ctly adaptable to the unique needs of your gathering.\nStandard Package In
 cludes:\n\n 	Led by Lisa Pumper\, South Florida’s leading yoga instructo
 r\n 	A fully customized yoga class based on the theme and needs of your ev
 ent\n 	PA system with music tailored to complement the session\n 	Optional
  team-building exercises for a fun\, engaging experience\n 	Optional actio
 n photos taken before\, during\, and after the class\n 	Deep relaxation an
 d guided meditation for restoring calm and focus\n\nLarge Group Package In
 cludes:\n\n 	Led by Lisa Pumper with a teaching assistant\n 	Upgraded PA s
 ystem with music suited to the session’s theme\n 	60/90-minute options: 
 choose from FUNctional Yoga\, Yoga-Fitness Fusion\, or Meditation styles\n
  	Optional team-building exercises for connection and playfulness\n 	Optio
 nal action photos to capture the experience\n 	Deep relaxation and guided 
 meditation session to complete the practice\n\nUpgrades (Prices Vary):\n\n
  	Sessions outside of Fort Lauderdale\n 	Chair or table massage options\n 
 	Additional wellness services upon request\n\nPlease Note: All bookings ar
 e non-refundable and non-transferable unless impacted by weather-related e
 vents (e.g.\, flood zone closures).\nWhat Participants Should Bring:\n\n 	
 Beach towel for outdoor practices\n 	Comfortable clothing\n 	Water for hyd
 ration\n 	Sunglasses\, sunscreen\, and hats for outdoor sessions\n\nSpecia
 lizations:\nSoFlo Yoga specializes in corporate events\, team-building ses
 sions\, eco yoga\, full moon yoga\, beach cleanups\, bachelorette parties\
 , family yoga\, retreats\, festivals\, and more. Since 2008\, the SoFlo Yo
 ga team has provided wellness services across South Florida\, with founder
  Lisa Pumper leading the charge as an industry leader and event producer. 
 Their expertise extends to hosting high-profile and city/government events
 \, with all staff undergoing approved background checks.\n\nFor more infor
 mation and bookings\, visit:\n\n 	Websites: BeachYogaFit.com | yogacOMmUNI
 TYfl.com\n 	Facebook Group: Fort Lauderdale Beach Yoga\n 	Contact: Lisa Pu
 mper at lisapumperyoga@gmail.com or text (954) 300-1580\n\n\nGET TICKETS\n
ATTACH;FMTTYPE=image/jpeg:https://breathemiami.us/wp-content/uploads/2024/
 10/Corporate-Yoga-Wellness-Sessions-for-retreats-confrences-and-more.jpg
CATEGORIES:Wellness Events
LOCATION:Ft Lauderdale Beach Yoga: Our location OR Yours\, 870 North Fort L
 auderdale Beach Boulevard \, Fort Lauderdale\, Florida\, 33304 \, FL\, Uni
 ted States
X-APPLE-STRUCTURED-LOCATION;VALUE=URI;X-ADDRESS=870 North Fort Lauderdale B
 each Boulevard \, Fort Lauderdale\, Florida\, 33304 \, FL\, United States;
 X-APPLE-RADIUS=100;X-TITLE=Ft Lauderdale Beach Yoga: Our location OR Yours
 :geo:0,0
END:VEVENT
BEGIN:VTIMEZONE
TZID:America/New_York
X-LIC-LOCATION:America/New_York
BEGIN:DAYLIGHT
DTSTART:20240310T030000
TZOFFSETFROM:-0500
TZOFFSETTO:-0400
TZNAME:EDT
END:DAYLIGHT
END:VTIMEZONE
END:VCALENDAR