BEGIN:VCALENDAR
VERSION:2.0
PRODID:-//wp-events-plugin.com//7.2.3.1//EN
TZID:America/New_York
X-WR-TIMEZONE:America/New_York
BEGIN:VEVENT
UID:1245@breathemiami.us
DTSTART;TZID=America/New_York:20250222T100000
DTEND;TZID=America/New_York:20250222T163000
DTSTAMP:20250211T171546Z
URL:https://breathemiami.us/events/constelaciones-familiares/
SUMMARY:Constelaciones Familiares
DESCRIPTION:Join us for a transformative Family Constellations event\, guid
 ed by the renowned healer Eric López. This powerful gathering invites par
 ticipants to explore their life dynamics from a systemic perspective\, unc
 overing hidden patterns that may be influencing their well-being\, relatio
 nships\, and potential. Beyond the familial realm\, this space offers an o
 pportunity for personal growth\, unlocking your true potential\, and achie
 ving greater clarity and happiness.\nIn a safe\, guided environment\, you 
 will have the chance to heal\, understand\, and reconnect with yourself an
 d the forces that drive you forward. Whether you seek to resolve inner con
 flicts\, gain insight\, or simply begin a path of personal development\, t
 his experience will help you live a fuller\, more empowered life.\nThis is
  an invitation to embark on a journey of self-discovery and transformation
 . The change you seek begins here.\nAbout Eric López\nEric López is a re
 spected international healer\, psychic\, and Medicine Man of the Nemenhah 
 tribe. He is a facilitator of Family Constellations and an expert in shama
 nic practices and holistic well-being\, known for guiding deeply transform
 ative experiences. Trained directly by Bert and Sophie Hellinger\, Eric co
 mbines Family Constellations\, energy medicine\, shamanic rituals\, and mu
 sic to promote healing on physical\, emotional\, and energetic levels. He 
 is also certified in The Emotion Code Technique and continues to refine hi
 s studies in integral well-being.\nFrequently Asked Questions:\n\n\n 	Will
  food be provided\, or should I bring my own lunch?\n\nPlease refer to the
  event details for specific information regarding meals.\nThis event is a 
 chance to heal\, grow\, and unlock the potential within you\, guided by an
  expert in both traditional and modern healing practices. Don't miss the o
 pportunity to begin your journey toward lasting transformation!\n\n\nGET T
 ICKETS\n
ATTACH;FMTTYPE=image/jpeg:https://breathemiami.us/wp-content/uploads/2025/
 02/Constelaciones-Familiares.jpeg
CATEGORIES:Wellness Events
LOCATION:The Raway\, 75 Valencia Avenue\, 1150 Coral Gables\, Florida\, 331
 34\, FL\, United States
X-APPLE-STRUCTURED-LOCATION;VALUE=URI;X-ADDRESS=75 Valencia Avenue\, 1150 C
 oral Gables\, Florida\, 33134\, FL\, United States;X-APPLE-RADIUS=100;X-TI
 TLE=The Raway:geo:0,0
END:VEVENT
BEGIN:VTIMEZONE
TZID:America/New_York
X-LIC-LOCATION:America/New_York
BEGIN:STANDARD
DTSTART:20241103T010000
TZOFFSETFROM:-0400
TZOFFSETTO:-0500
TZNAME:EST
END:STANDARD
END:VTIMEZONE
END:VCALENDAR