BEGIN:VCALENDAR
VERSION:2.0
PRODID:-//wp-events-plugin.com//7.2.3.1//EN
TZID:America/New_York
X-WR-TIMEZONE:America/New_York
BEGIN:VEVENT
UID:174@breathemiami.us
DTSTART;TZID=America/New_York:20231111T183000
DTEND;TZID=America/New_York:20231111T203000
DTSTAMP:20240907T181541Z
URL:https://breathemiami.us/events/community-gathering/
SUMMARY:Sync'd in Time: A Community Gathering
DESCRIPTION:"Join LeoRising for a meaningful gathering focused on reflectiv
 e conversations and meditation as we sow the seeds of community growth.\n\
 nIn this soul-enriching Satsang\, we will come together to honor the pract
 ice of clear communication\, meaningful connections\, and conscious evolut
 ion through contemplation. LeoRising\, who brings expertise as a medium\, 
 performer\, yogi\, and intimacy coordinator\, will rekindle your creativit
 y and facilitate a deeper understanding of self and relationships within o
 ur Modern Om community.\n\nKey Workshop Highlights:\n\n 	Engage in Conscio
 us Group Meetings and Meditations\n 	Reflect\, meditate\, and bond through
  community social rituals\, including occasional songs\n 	Delve into profo
 und moments of silence and visionary quests to inspire creativity\n\n&nbsp
 \;\n\nGET TICKETS\n\nThis event is ideal for artists\, visionaries\, and s
 eekers\, designed to foster personal growth through collective discussions
 .\n\nJoin LeoRising on this inspiring journey to nurture your soul\, fuel 
 your creativity\, and connect with a conscious community that transcends b
 oundaries of time and space.\n\nHosted by: LeoRising Scott\, a Spiritualis
 t\, Actor\, Writer\, and Yogi who believes in the power of an ancestral se
 lf-practice to unlock the rich tapestry of the human experience. Their tea
 chings encompass adaptable practices like yoga asanas\, indigenous breath 
 and voice work\, performing arts\, and meditation\, promoting self-love an
 d communal harmony.\n\nWhere: The Modern ŌM Bungalow\, the hub of Miami's
  mindful community\, is located at 5020 NE 2nd Ave\, Miami\, FL 33137.\n\n
 Parking: Metered parking is available on NE 2nd Avenue and NE 50th Terrace
 . Please avoid parking in residential zones\, as they tow vehicles.\n\nWha
 t to Bring: Bring a yoga mat\, a refillable water bottle\, and an open hea
 rt.\n\nTickets: Choose between Early Bird and General Admission ticket opt
 ions.\n\nExclusive Rates for Members: Explore membership plans for special
  rates.\n\n 	MILES PLAN / $49 per year - 10% off this session\n 	PRACTICE 
 PLAN / $99 per month - 10% off this session\n 	ACCESS PLAN / $199 per mont
 h - 10% off this session\n\nMindful Miles™️: Earn Mindful Miles (MM) a
 nd enjoy rewards by joining the MILES PLAN ($49 per year)\, our "frequent 
 flier" program for Miami events. Collect 10MM for a practice reward and 25
 MM for an upgraded status with valuable perks.\n\nOnline Resources: If you
  cannot join us in person\, we offer various online resources.\n\n 	Modern
  Medi Club: A donation-based online meditation studio with daily classes a
 t 8am\, 10am\, and 8pm. It's free to join and can be accessed independentl
 y of Miami plans.\n 	Cushion Crawl On-Demand: Access a library of 500 vide
 os recorded over three years by 120+ world-class facilitators. This Conten
 t Library is available with all Miami plans.\n\nABOUT MODERN ŌM:\n\nSince
  2016\, Modern ŌM has been connecting communities to world-class spiritua
 l wellness programs. Our offerings include over 30 monthly Miami events\, 
 retreats\, trainings\, online meditations through the Modern Medi Club\, a
 nd branded merchandise.\n\nConsider us your source for spiritual wellness.
  We support a continually evolving community of entrepreneurs\, profession
 als\, and creatives who prioritize their spiritual well-being. Join us in 
 Miami and beyond."
ATTACH;FMTTYPE=image/jpeg:https://breathemiami.us/wp-content/uploads/2023/
 11/https___cdn.evbuc_.com_images_631713139_1145507310493_1_original.jpeg
CATEGORIES:Mindfulness Events,Things To Do,Wellness Events,Yoga Events
LOCATION:Modern ŌM Bungalow\, 5020 Northeast 2nd Avenue\, Miami\, FL\, 331
 37\, United States
X-APPLE-STRUCTURED-LOCATION;VALUE=URI;X-ADDRESS=5020 Northeast 2nd Avenue\,
  Miami\, FL\, 33137\, United States;X-APPLE-RADIUS=100;X-TITLE=Modern ŌM 
 Bungalow:geo:0,0
END:VEVENT
BEGIN:VTIMEZONE
TZID:America/New_York
X-LIC-LOCATION:America/New_York
BEGIN:STANDARD
DTSTART:20231105T010000
TZOFFSETFROM:-0400
TZOFFSETTO:-0500
TZNAME:EST
END:STANDARD
END:VTIMEZONE
END:VCALENDAR