BEGIN:VCALENDAR
VERSION:2.0
PRODID:-//wp-events-plugin.com//7.2.3.1//EN
TZID:America/New_York
X-WR-TIMEZONE:America/New_York
BEGIN:VEVENT
UID:382@breathemiami.us
DTSTART;TZID=America/New_York:20240413T090000
DTEND;TZID=America/New_York:20240413T120000
DTSTAMP:20240313T221108Z
URL:https://breathemiami.us/events/community-action-day-deering-estate/
SUMMARY:Community Action Day @ Deering Estate
DESCRIPTION:\nBecome a Deering Estate Steward: Volunteer for a Day of Conse
 rvation!\nCalling all nature enthusiasts and conservation champions! Deeri
 ng Estate seeks passionate volunteers to join their dedicated team in pres
 erving and restoring this historical landmark. Lend a helping hand and mak
 e a lasting impact on this beautiful ecosystem.\nGuided by Experts: Under 
 the knowledgeable guidance of Deering Estate's professional naturalists\, 
 you'll embark on a meaningful journey of environmental stewardship. Throug
 h a variety of carefully planned projects\, you'll contribute directly to 
 the estate's conservation and restoration goals.\nDiverse Projects for Eve
 ry Volunteer:\n\n\n 	Eradicating Invasive Plants: Invasive species can dis
 rupt the delicate balance of an ecosystem. By removing them\, you'll help 
 native plants flourish and ensure the estate's biodiversity thrives.\n 	Pl
 anting Native Species: Become a champion for native flora! Engage in the r
 ewarding task of planting native trees\, shrubs\, and flowers\, creating a
  haven for local wildlife and enriching the natural landscape.\n 	Mulching
  Magic: Mulch plays a vital role in retaining moisture and suppressing wee
 d growth. Contribute to healthy and vibrant plant life by applying mulch t
 o strategically chosen areas.\n 	Cleaning Up for a Brighter Future: Keepin
 g the estate clean is crucial. Lend a hand by collecting litter and debris
 \, ensuring the natural beauty of Deering Estate shines through.\n\nReady 
 to Embrace the Challenge?\nWhile anyone with a passion for the environment
  can participate\, it's important to be prepared for Florida's unique clim
 ate.\n\n\n 	Florida's Sunshine and Humidity: Be prepared to work outdoors 
 in the warmth and humidity that defines Florida's climate. Dress appropria
 tely for the conditions.\n\nGear Up for a Rewarding Day:\n\n\n 	Punctualit
 y Matters: Arrive a few minutes before your designated start time to ensur
 e a smooth check-in process and maximize your volunteer experience.\n 	Dre
 ssing for Success: Since most activities will take place in partially fore
 sted areas\, closed-toe shoes\, long-sleeved shirts\, and long pants are m
 andatory. Protect yourself from the elements by bringing a reusable water 
 bottle to stay hydrated.\n 	We've Got Your Back: Don't worry about equipme
 nt – Deering Estate will provide gloves\, a water cooler\, and receptacl
 es for collected trash or plant material.\n 	Documenting Your Contribution
 : If you require community service hour verification\, simply request a co
 nfirmation letter from the park staff after the event. They'll be happy to
  email it to you.\n\nBy volunteering at Deering Estate\, you'll become mor
 e than just a visitor\; you'll become a steward. You'll be playing a vital
  role in safeguarding this historical treasure and ensuring its natural sp
 lendor thrives for generations to come. Be part of the solution\, give bac
 k to nature\, and discover the joy of conservation at Deering Estate.\n\n\
 n\nBOOK TICKETS\n
ATTACH;FMTTYPE=image/jpeg:https://breathemiami.us/wp-content/uploads/2024/
 03/Live-A-Park-Life-21.png
CATEGORIES:Things To Do,Wellness Events
LOCATION:Deering Estate Avenue Miami\, 16701 SW 72nd Avenue\, Miami\, Flori
 da\, 33157\, United States
X-APPLE-STRUCTURED-LOCATION;VALUE=URI;X-ADDRESS=16701 SW 72nd Avenue\, Miam
 i\, Florida\, 33157\, United States;X-APPLE-RADIUS=100;X-TITLE=Deering Est
 ate Avenue Miami:geo:0,0
END:VEVENT
BEGIN:VTIMEZONE
TZID:America/New_York
X-LIC-LOCATION:America/New_York
BEGIN:DAYLIGHT
DTSTART:20240310T030000
TZOFFSETFROM:-0500
TZOFFSETTO:-0400
TZNAME:EDT
END:DAYLIGHT
END:VTIMEZONE
END:VCALENDAR