BEGIN:VCALENDAR
VERSION:2.0
PRODID:-//wp-events-plugin.com//7.2.3.1//EN
TZID:America/New_York
X-WR-TIMEZONE:America/New_York
BEGIN:VEVENT
UID:1051@breathemiami.us
DTSTART;TZID=America/New_York:20241017T160000
DTEND;TZID=America/New_York:20241018T010000
DTSTAMP:20241013T071954Z
URL:https://breathemiami.us/events/coconut-grove-full-moon-party-at-regatt
 a-grove/
SUMMARY:Coconut Grove Full Moon Party at Regatta Grove
DESCRIPTION:Prepare to immerse yourself in the enchanting magic of the full
  moon at Regatta Grove on Thursday\, October 17th. As the luminous full mo
 on rises high in the sky\, this waterfront venue invites guests to partake
  in a celebration that promises to be truly unforgettable.\n\nThe Coconut 
 Grove Full Moon Party will be an evening filled with captivating entertain
 ment and unique experiences. Attendees can look forward to a mesmerizing d
 rum circle\, where rhythmic beats resonate under the moonlight\, inviting 
 everyone to join in the communal celebration. Guests can also seek insight
  and guidance through exciting fortune telling\, adding an air of mystique
  to the festivities. As if that weren’t enough\, breathtaking fire perfo
 rmances will dazzle spectators\, lighting up the night sky with awe-inspir
 ing displays of artistry and skill.\n\nTo complement the enchanting atmosp
 here\, guests can indulge in an array of tropical drinks and curated food 
 offerings\, all while enjoying groovy music that will keep the energy high
 . With stunning waterfront views at the heart of Coconut Grove\, the event
  promises a picturesque backdrop for a magical night.\n\nEvent Highlights:
 \n\n 	Fire Performers: Watch as skilled artists light up the night with th
 eir thrilling fire displays.\n 	Fortune Telling: Discover your fate and wh
 at the future holds through intriguing readings.\n 	Drum Circle: Join in t
 he rhythmic celebration\, fostering a sense of community and joy.\n\nDon
 ’t miss the opportunity to celebrate the full moon in style at Regatta G
 rove. It promises to be an evening of wonder and connection\, perfect for 
 those seeking a unique and magical experience.\n\nGET TICKETS\n
ATTACH;FMTTYPE=image/jpeg:https://breathemiami.us/wp-content/uploads/2024/
 10/Coconut-Grove-Full-Moon-Party-at-Regatta-Grove.jpg
CATEGORIES:Food &amp; Drink Events,Nature Events,Things To Do
LOCATION:Regatta Grove\, 3415 Pan American Drive \, Miami\, Florida\, 33133
 \, FL\, United States
X-APPLE-STRUCTURED-LOCATION;VALUE=URI;X-ADDRESS=3415 Pan American Drive \, 
 Miami\, Florida\, 33133\, FL\, United States;X-APPLE-RADIUS=100;X-TITLE=Re
 gatta Grove:geo:0,0
END:VEVENT
BEGIN:VTIMEZONE
TZID:America/New_York
X-LIC-LOCATION:America/New_York
BEGIN:DAYLIGHT
DTSTART:20240310T030000
TZOFFSETFROM:-0500
TZOFFSETTO:-0400
TZNAME:EDT
END:DAYLIGHT
END:VTIMEZONE
END:VCALENDAR