BEGIN:VCALENDAR
VERSION:2.0
PRODID:-//wp-events-plugin.com//7.2.3.1//EN
TZID:America/New_York
X-WR-TIMEZONE:America/New_York
BEGIN:VEVENT
UID:965@breathemiami.us
DTSTART;TZID=America/New_York:20241024T130000
DTEND;TZID=America/New_York:20241024T140000
DTSTAMP:20241003T020653Z
URL:https://breathemiami.us/events/cocktail-creations-miami-mixology-class
 -by-classpop/
SUMMARY:Cocktail Creations - Miami - Mixology Class by Classpop!™
DESCRIPTION:Cocktail Creations - Miami" offers an exciting and interactive 
 mixology class led by expert instructor Shana and her team\, designed for 
 both beginners and experienced cocktail enthusiasts. In this engaging sess
 ion\, participants will dive into the world of mixology\, learning to craf
 t both timeless classics and inventive contemporary cocktails.\n\nWith han
 ds-on guidance from a professional mixologist\, attendees will explore var
 ious mixing techniques and experiment with a wide array of spirits and mix
 ers. The class provides the perfect opportunity to develop unique\, person
 alized drink recipes while enjoying a lively and fun atmosphere.\n\nHosted
  through Classpop!™\, a platform known for its wide range of creative ex
 periences\, this event is just one of many that includes activities like d
 ance\, painting\, and pottery—all led by talented local experts in a rel
 axed setting. Whether you're looking to enhance your mixology skills or si
 mply enjoy a creative\, social evening\, "Cocktail Creations - Miami" prom
 ises a memorable experience.\n\nFor more details and available dates\, vis
 it the official event page for "Cocktail Creations - Miami.\n\nGET TICKETS
 \n
ATTACH;FMTTYPE=image/jpeg:https://breathemiami.us/wp-content/uploads/2024/
 10/Cocktails-for-a-Cause-1.jpg
CATEGORIES:Food &amp; Drink Events
LOCATION:Miami Traveling Chef\, Miami Traveling Chef\, Miami\, Florida\, 33
 128\, FL\, United States
X-APPLE-STRUCTURED-LOCATION;VALUE=URI;X-ADDRESS=Miami Traveling Chef\, Miam
 i\, Florida\, 33128\, FL\, United States;X-APPLE-RADIUS=100;X-TITLE=Miami 
 Traveling Chef:geo:0,0
END:VEVENT
BEGIN:VTIMEZONE
TZID:America/New_York
X-LIC-LOCATION:America/New_York
BEGIN:DAYLIGHT
DTSTART:20240310T030000
TZOFFSETFROM:-0500
TZOFFSETTO:-0400
TZNAME:EDT
END:DAYLIGHT
END:VTIMEZONE
END:VCALENDAR