BEGIN:VCALENDAR
VERSION:2.0
PRODID:-//wp-events-plugin.com//7.2.3.1//EN
TZID:America/New_York
X-WR-TIMEZONE:America/New_York
BEGIN:VEVENT
UID:1388@breathemiami.us
DTSTART;TZID=America/New_York:20251008T094500
DTEND;TZID=America/New_York:20251008T120000
DTSTAMP:20251007T153549Z
URL:https://breathemiami.us/events/coalition-to-empower-our-future/
SUMMARY:Coalition to Empower our Future
DESCRIPTION:\n\n\n\nYouth Mental Health-Focused Coalition to Host Roundtabl
 e Event in Miami\nEvent will Feature Former Florida Member of Congress\, N
 ational Mental Health Advocates\,\nYouth Advocates and Regional Nonprofit 
 Organizations\nMIAMI – On Wednesday\, October 8\, Coalition to Empower o
 ur Future (CEF) will host a\nroundtable discussion that aims to explore th
 e complex drivers behind declining youth mental\nhealth and wellbeing\, an
 d the need for comprehensive solutions to address this challenge.\nThe rou
 ndtable will be moderated by CEF Board Member and former U.S. Congressman\
 nCarlos Curbelo and Executive Director Glen Weiner.\nThe event will featur
 e a broad range of voices and perspectives addressing the many\ncontributi
 ng factors that impact youth mental health and include a mix of national a
 nd local\norganizations and nonprofits\, mental health professionals and c
 linicians\, and other regional\ncommunity leaders.\n\nCongressman Curbelo 
 and Glen Weiner will be available for interviews immediately before the\nr
 oundtable discussion.\nMedia are welcome and encouraged to attend.\n&nbsp\
 ;\nWHO:\n● American Academy of Pediatrics National Center on Social Medi
 a and Youth Mental Health Director Nicole Owings-Fonner\n\n● Amigos for 
 Kids President and CEO Karina Pavone\n\n● Children’s Bereavement Cente
 r CEO Debra Albo-Steiger\n\n● Coalition for Student Wellbeing Executive 
 Director Carson Domey\n\n● Coalition to Empower our Future Board Member 
 Congressman Curbelo\n\n● Coalition to Empower our Future Executive Direc
 tor Glen Weiner\n\n● Community Health of South Florida Behavioral Health
  Medical Director and Child and Adolescent Psychiatrist Dr. Howard Pratt\n
 \n● Mental Health Association of Central Florida CEO Marni Stahlman\n\n
 ● Miami-Dade County Public Schools Office of Mental Health Services Exec
 utive Director Rhea Lee\nWHAT:\nYouth Mental Health Roundtable\n\nWHEN:\nW
 ednesday\, October 8\, 2025\n9:45AM - 10:00AM - Media availability with Co
 ngressman Carlos Curbelo and Glen Weiner\n10:00AM to 12:00PM - Roundtable 
 event begins\n\nWHERE:\n3300 SW 27th Ave\, Miami\, FL 33133 (Plaza Ballroo
 m of the Ritz-Carlton Coconut\nGrove)\nNote: All filming and interviews mu
 st take place inside the Plaza Ballroom to avoid disruptions.\n\nPlease RS
 VP before 8:00 AM on 10/8 by emailing press@empowerourfuturecoalition.com.
 \n\nFor day-of contact\, please reach out to Jaclyn Orlando at jorlando@pl
 uspr.com or by phone at\n848-459-8297.\n\nABOUT COALITION TO EMPOWER OUR F
 UTURE\nCoalition to Empower our Future is an organization that aims to bri
 ng together a range of voices\nto fully inform solutions that empower yout
 h\, parents\, communities and society. The Coalition to\nEmpower our Futur
 e supports solutions that are inclusive of the full spectrum of factors\ni
 mpacting youth mental health. Former Montana Governor Steve Bullock\, form
 er assistant\nsecretary for the Administration for Children and Family Ser
 vices at the U.S. Department of\nHealth and Human Services January Contrer
 as\, and former U.S. Representative Carlos Curbelo\nserve on the board of 
 directors of the Coalition to Empower our Future. Dr. Caroline Carney\, a\
 nboard-certified psychiatrist and internist\, is a health executive and cl
 inician who serves as an\nexpert advisor to the coalition.\nTo learn more\
 , visit empowerourfuturecoalition.com or follow Coalition to Empower our F
 uture\non Facebook\, X\, Instagram and YouTube.\n\n\n\n\n\n\n\n
ATTACH;FMTTYPE=image/jpeg:https://breathemiami.us/wp-content/uploads/2025/
 10/Coalition-to-empower-our-future.png
CATEGORIES:Mindfulness Events,Things To Do,Wellness Events
END:VEVENT
BEGIN:VTIMEZONE
TZID:America/New_York
X-LIC-LOCATION:America/New_York
BEGIN:DAYLIGHT
DTSTART:20250309T030000
TZOFFSETFROM:-0500
TZOFFSETTO:-0400
TZNAME:EDT
END:DAYLIGHT
END:VTIMEZONE
END:VCALENDAR