BEGIN:VCALENDAR
VERSION:2.0
PRODID:-//wp-events-plugin.com//7.2.3.1//EN
TZID:America/New_York
X-WR-TIMEZONE:America/New_York
BEGIN:VEVENT
UID:655@breathemiami.us
DTSTART;TZID=America/New_York:20240808T190000
DTEND;TZID=America/New_York:20240808T210000
DTSTAMP:20240803T052840Z
URL:https://breathemiami.us/events/chocolate-wine-and-cheese-pairing/
SUMMARY:Chocolate\, Wine and Cheese Pairing
DESCRIPTION:Experience an evening of culinary delight at Romanicos Chocolat
 e with our exclusive Chocolate\, Wine\, and Cheese Pairing event. This int
 imate gathering\, limited to just 16 guests\, promises a cozy and personal
 ized exploration of gourmet flavors in a relaxed setting.\nEvent Highlight
 s:\n\n 	Expert Guidance: Be led by a knowledgeable instructor who will off
 er valuable tips on the art of pairing chocolate with cheese. Discover how
  to create harmonious flavor combinations and learn the secrets behind suc
 cessful pairings.\n 	Flavor Exploration: Savor a carefully curated selecti
 on of artisanal cheeses alongside Romanicos’ finest chocolates. Each pai
 ring is chosen to reveal unique and delightful flavor profiles\, enhancing
  your tasting experience.\n 	Interactive Fun: Engage in hands-on pairing e
 xercises and experiment with various combinations. This interactive approa
 ch makes learning enjoyable and allows you to discover new favorites.\n 	R
 elaxed Atmosphere: Enjoy the event in a warm\, inviting space designed for
  comfort and relaxation. It’s the perfect environment for mingling and s
 haring your culinary discoveries with others.\n 	Intimate Group Setting: W
 ith only 16 spots available\, this event ensures personalized attention fr
 om our experts and the opportunity to connect closely with fellow particip
 ants.\n\nBenefits:\n\n 	Gourmet Enjoyment: Enhance your culinary knowledge
  and skills while indulging in delectable chocolate and cheese pairings.\n
  	Creative Exploration: Experiment with different flavor combinations to d
 iscover your perfect match.\n 	Social Interaction: Meet and bond with like
 -minded individuals in a friendly and welcoming atmosphere.\n 	Personalize
 d Experience: Receive tailored guidance and attention in a small\, intimat
 e group setting.\n\nJoin us at Romanicos Chocolate for a sophisticated yet
  laid-back evening of flavor exploration and enjoyment. Secure your spot t
 oday and indulge in a memorable experience that celebrates the art of pair
 ing gourmet treats!\n\nGET TICKETS\n
ATTACH;FMTTYPE=image/jpeg:https://breathemiami.us/wp-content/uploads/2024/
 08/Chocolate-Wine-and-Cheese-Pairing.jpg
CATEGORIES:Food &amp; Drink Events,Things To Do,Wellness Events
LOCATION:Romanicos Chocolate\, 2337 Coral Way\, Miami\, Fl\, 33145\, FL \, 
 United States
X-APPLE-STRUCTURED-LOCATION;VALUE=URI;X-ADDRESS=2337 Coral Way\, Miami\, Fl
 \, 33145\, FL \, United States;X-APPLE-RADIUS=100;X-TITLE=Romanicos Chocol
 ate:geo:0,0
END:VEVENT
BEGIN:VTIMEZONE
TZID:America/New_York
X-LIC-LOCATION:America/New_York
BEGIN:DAYLIGHT
DTSTART:20240310T030000
TZOFFSETFROM:-0500
TZOFFSETTO:-0400
TZNAME:EDT
END:DAYLIGHT
END:VTIMEZONE
END:VCALENDAR