BEGIN:VCALENDAR
VERSION:2.0
PRODID:-//wp-events-plugin.com//7.2.3.1//EN
TZID:America/New_York
X-WR-TIMEZONE:America/New_York
BEGIN:VEVENT
UID:616@breathemiami.us
DTSTART;TZID=America/New_York:20240718T190000
DTEND;TZID=America/New_York:20240718T210000
DTSTAMP:20240706T095338Z
URL:https://breathemiami.us/events/chocolate-and-cheese-pairing-a-fun-and-
 relaxed-experience/
SUMMARY:Chocolate and Cheese Pairing: A Fun and Relaxed Experience
DESCRIPTION:Embark on an evening of gastronomic delight at Romanicos Chocol
 ate\, where the exquisite world of chocolate and cheese pairings awaits yo
 u in a cozy and intimate setting. This exclusive event is designed for tho
 se who appreciate the finer things in life and seek to explore new culinar
 y horizons.\n\nEvent Overview: Join us for a memorable journey into the ar
 t of pairing artisanal cheeses with gourmet chocolates. Limited to just 16
  participants\, this event ensures a personalized and interactive experien
 ce where you can discover the perfect balance of flavors.\n\nWhat to Antic
 ipate: Expert Guidance: Our knowledgeable instructor will lead you through
  the nuances of pairing chocolate and cheese\, offering insights and exper
 t tips along the way.\n\nFlavor Exploration: Delight your taste buds with 
 a curated selection of fine cheeses and Romanicos’ premium chocolates. E
 xperience the unique combinations that emerge when these two decadent trea
 ts come together.\n\nInteractive Enjoyment: Engage in hands-on pairing exe
 rcises\, where you'll experiment with different flavor profiles and discov
 er unexpected harmonies.\n\nRelaxed Atmosphere: Relax and unwind in a welc
 oming environment designed for socializing and enjoyment. Whether you're a
  seasoned food enthusiast or a curious beginner\, our event promises a lai
 d-back yet enriching experience.\n\nIntimate Setting: With only 16 spots a
 vailable\, you'll receive personalized attention from our team and have am
 ple opportunities to connect with fellow connoisseurs.\n\nBenefits of Part
 icipation: Gourmet Adventure: Elevate your culinary expertise while relish
 ing in the pleasure of exquisite flavors.\n\nCreative Pairings: Challenge 
 your palate and explore new taste sensations through creative pairing comb
 inations.\n\nSocial Connection: Forge new friendships and share your passi
 on for fine food with like-minded individuals in a convivial atmosphere.\n
 \nPersonalized Experience: Enjoy the exclusivity of a small group setting\
 , where every participant can fully immerse themselves in the art of choco
 late and cheese pairing.\n\nDon't miss this opportunity to indulge in a so
 phisticated yet relaxed evening of culinary exploration at Romanicos Choco
 late. Reserve your spot today and treat yourself to an unforgettable exper
 ience of flavors\, knowledge\, and camaraderie. We look forward to welcomi
 ng you to this special event!\n\nGET TICKETS\n
ATTACH;FMTTYPE=image/jpeg:https://breathemiami.us/wp-content/uploads/2024/
 07/Chocolate-and-Cheese-Pairing-A-Fun-and-Relaxed-Experience.jpg
CATEGORIES:Food &amp; Drink Events,Mindfulness Events,Things To Do
LOCATION:Romanicos Chocolate\, 2337 Coral Way\, Miami\, Fl\, 33145\, FL \, 
 United States
X-APPLE-STRUCTURED-LOCATION;VALUE=URI;X-ADDRESS=2337 Coral Way\, Miami\, Fl
 \, 33145\, FL \, United States;X-APPLE-RADIUS=100;X-TITLE=Romanicos Chocol
 ate:geo:0,0
END:VEVENT
BEGIN:VTIMEZONE
TZID:America/New_York
X-LIC-LOCATION:America/New_York
BEGIN:DAYLIGHT
DTSTART:20240310T030000
TZOFFSETFROM:-0500
TZOFFSETTO:-0400
TZNAME:EDT
END:DAYLIGHT
END:VTIMEZONE
END:VCALENDAR