BEGIN:VCALENDAR
VERSION:2.0
PRODID:-//wp-events-plugin.com//7.2.3.1//EN
TZID:America/New_York
X-WR-TIMEZONE:America/New_York
BEGIN:VEVENT
UID:195@breathemiami.us
DTSTART;TZID=America/New_York:20231207T103000
DTEND;TZID=America/New_York:20231207T113000
DTSTAMP:20231205T192750Z
URL:https://breathemiami.us/events/chanting-and-wisdom-with-swami-chidanan
 da-in-miami/
SUMMARY:Chanting and Wisdom with Swami Chidananda
DESCRIPTION:Event Information:\n\n\n\n\n\n\n\n\n\n\n\n\n\nEmbark on a trans
 formative journey with Swami Chidananda as he guides you through a practic
 e and enlightening lecture\, creating a foundation that elevates and readi
 es you for a day filled with art\, social connections\, and the dynamic en
 ergy of Art Week. Join this unique experience where wisdom meets practice\
 , setting the tone for a day of cultural immersion and vibrant engagement.
 \n\n\n\n\n\n\n\n\n\n\n\n\n\nDate and Time: December 7 · 10:30 - 11:30am 
 EST\n\nAbout this event:\n\n 	Elevate and prepare for a day of art\, socia
 lizing\, and the bustling environment of Art Week with Swami Chidananda's 
 practice and lecture.\n 	Swami Chidananda\, a spiritual educator and monk\
 , offers a vibrational practice rooted in yogic wisdom to guide individual
 s on their inner journey.\n 	Learn more about Swamiji on Instagram @swami_
 chidananda and through his podcast\, 'The Path of a Swami.'\n\nDuration: 1
  hour\n\nTicket Information:\n\n 	Ticket Type: Mobile eTicket\n 	Suggested
  Contribution: $20 (Adjustable up or down\, optional for ACCESS PLAN\n\n\n
 GET TICKETS\n\n\nWorkout Session Details:\n\n 	Instructor: Swami Chidanand
 a\n 	Location: Surrounding the MAZE: JOURNEY THROUGH THE ALGORITHMIC SELF 
 by SEBASTIAN ERRAZURIZ on the beach in front of Faena Hotel. Meet at the e
 ntrance of the maze.\n 	Essentials to Bring: Towel or blanket to sit on\, 
 refillable water bottle\, and an open heart.\n\nParking Options:\n\n 	Vale
 t parking at Faena Hotel\n 	Municipal lot one block north of Faena\n
ATTACH;FMTTYPE=image/jpeg:https://breathemiami.us/wp-content/uploads/2023/
 12/https___cdn.evbuc_.com_images_650276739_1145507310493_1_original.jpg
CATEGORIES:Wellness Events
LOCATION:Faena Hotel\, 3201 Collins Avenue Miami Beach\, FL 33140 United St
 ates\, Miami Beach\, FL\, 33140\, florida\, United States
X-APPLE-STRUCTURED-LOCATION;VALUE=URI;X-ADDRESS=3201 Collins Avenue Miami B
 each\, FL 33140 United States\, Miami Beach\, FL\, 33140\, florida\, Unite
 d States;X-APPLE-RADIUS=100;X-TITLE=Faena Hotel:geo:0,0
END:VEVENT
BEGIN:VTIMEZONE
TZID:America/New_York
X-LIC-LOCATION:America/New_York
BEGIN:STANDARD
DTSTART:20231105T010000
TZOFFSETFROM:-0400
TZOFFSETTO:-0500
TZNAME:EST
END:STANDARD
END:VTIMEZONE
END:VCALENDAR