BEGIN:VCALENDAR
VERSION:2.0
PRODID:-//wp-events-plugin.com//7.2.3.1//EN
TZID:America/New_York
X-WR-TIMEZONE:America/New_York
BEGIN:VEVENT
UID:420@breathemiami.us
DTSTART;TZID=America/New_York:20240518T110000
DTEND;TZID=America/New_York:20240518T170000
DTSTAMP:20240518T020218Z
URL:https://breathemiami.us/events/celebrate-you-yoga-festival-the-soulful
 /
SUMMARY:CELEBRATE YOU! Yoga Festival: The Soulful Edition
DESCRIPTION:\nElevate Your Soul: Celebrate You! Yoga Festival: The Soulful 
 Edition\nCalling all yogis\, wellness seekers\, and anyone looking for a s
 oul-stirring experience! Celebrate You! Yoga Festival: The Soulful Edition
  returns for a day of pure bliss dedicated to nourishing your mind\, body\
 , and spirit.\nEmbark on a Soulful Journey:\n\n\n 	Variety of Yoga Classes
 : Find your perfect practice with a diverse range of yoga classes catering
  to all levels\, from gentle restorative flows to invigorating Vinyasa ses
 sions.\n 	Meditation &amp\; Mindfulness: Deepen your inner peace and culti
 vate present-moment awareness with guided meditation sessions led by exper
 ienced practitioners.\n 	Wellness Workshops: Expand your knowledge and dis
 cover new ways to enhance your well-being with informative workshops on va
 rious health and wellness topics.\n 	Uplifting Dance Classes: Let loose an
 d express yourself through joyful dance classes designed to ignite your sp
 irit and raise your vibration.\n 	Healing Drums Workshop: Connect with you
 r inner rhythm and explore the transformative power of sound healing with 
 a hands-on drums workshop.\n\nThis isn't just a festival\; it's a lovefest
  of positive energy!\n\n\n 	Positive Vibes: Immerse yourself in a vibrant 
 atmosphere filled with love\, positivity\, and uplifting music spun by a d
 edicated DJ.\n 	Delicious Delights: Fuel your body with delicious offering
 s from on-site food trucks\, catering to various dietary needs.\n 	Explore
  &amp\; Shop: Browse through a curated selection of vendors showcasing uni
 que products and services that support your wellness journey.\n 	Kidz Zone
 : Bring the whole family! A dedicated Kidz Zone keeps your little ones ent
 ertained while you enjoy the festivities.\n 	Yoga Dance Party: End the day
  on a high note with an exhilarating Yoga Dance Party – the perfect blen
 d of movement\, music\, and pure joy.\n\nCelebrate You! Yoga Festival: The
  Soulful Edition is more than just a festival\; it's a celebration of life
  and a reminder to honor the amazing being that you are. Newbies are alway
 s welcome! This is a space for everyone to explore\, connect\, and experie
 nce the transformative power of yoga and mindful practices. Children under
  10 are free\, making it the perfect opportunity for a fun-filled family o
 uting.\nDon't miss this chance to elevate your soul\, connect with like-mi
 nded individuals\, and celebrate the joyful journey of life! Mark your cal
 endars and get ready to Celebrate You!\n\n\n\nBUY TICKETS\n
ATTACH;FMTTYPE=image/jpeg:https://breathemiami.us/wp-content/uploads/2024/
 04/https___cdn.evbuc_.com_images_729094459_240291479924_1_original.jpeg
CATEGORIES:Wellness Events,Yoga Events
LOCATION:5005 Northwest 173rd Drive Miami Gardens\, 5005 Northwest 173rd Dr
 ive \, Miami Gardens\, Florida\, 33055\, United States
X-APPLE-STRUCTURED-LOCATION;VALUE=URI;X-ADDRESS=5005 Northwest 173rd Drive 
 \, Miami Gardens\, Florida\, 33055\, United States;X-APPLE-RADIUS=100;X-TI
 TLE=5005 Northwest 173rd Drive Miami Gardens:geo:0,0
END:VEVENT
BEGIN:VTIMEZONE
TZID:America/New_York
X-LIC-LOCATION:America/New_York
BEGIN:DAYLIGHT
DTSTART:20240310T030000
TZOFFSETFROM:-0500
TZOFFSETTO:-0400
TZNAME:EDT
END:DAYLIGHT
END:VTIMEZONE
END:VCALENDAR