BEGIN:VCALENDAR
VERSION:2.0
PRODID:-//wp-events-plugin.com//7.2.3.1//EN
TZID:America/New_York
X-WR-TIMEZONE:America/New_York
BEGIN:VEVENT
UID:824@breathemiami.us
DTSTART;TZID=America/New_York:20240917T193000
DTEND;TZID=America/New_York:20240917T203000
DTSTAMP:20240907T023444Z
URL:https://breathemiami.us/events/candlelit-full-moon-sound-healing/
SUMMARY:Candlelit Full Moon Sound Healing
DESCRIPTION:Experience a serene evening of relaxation and rejuvenation at t
 he Beachcomber Resort + Club in Pompano Beach. This enchanting event\, set
  against the backdrop of the ocean\, invites you to unwind and reconnect w
 ith your inner self under the full moon.\n\nEvent Details:\n\n 	Guided Bre
 athwork and Meditation: Emmy\, known as the Mindful OT\, will lead a trans
 formative session of yogic breathwork and meditation. Her guidance will he
 lp ground participants in the present moment\, fostering a deep sense of c
 alm and mindfulness.\n 	Epic Sound Bath Experience: Following the meditati
 on\, surrender to a profound sound bath facilitated by Tree OM Sound Bath.
  As you relax in the restorative pose of shavasana\, immerse yourself in t
 he soothing vibrations and harmonious tones that will nurture your body an
 d spirit.\n\nWhat to Expect:\n\n 	Tranquil Beach Setting: Enjoy the soothi
 ng ambiance of a candlelit beachside setting\, where the gentle sound of w
 aves and the full moon's glow enhance the experience.\n 	Energy Healing: T
 he sound bath will offer a powerful form of energy healing\, promoting rel
 axation\, balance\, and revitalization.\n\nJoin us for an evening that pro
 mises to elevate your well-being and provide a profound sense of peace. Do
 n’t miss this opportunity to harmonize your mind\, body\, and spirit in 
 a magical coastal environment.\n\nGET TICKETS\n
ATTACH;FMTTYPE=image/jpeg:https://breathemiami.us/wp-content/uploads/2024/
 09/Candlelit-Full-Moon-Sound-Healing.jpg
CATEGORIES:Mindfulness Events,Things To Do,Wellness Events
LOCATION:Beachcomber Resort & Club\, 1200 South Ocean Boulevard Pompano Bea
 ch\, Miami\, Florida\, 33062\, FL\, United States
X-APPLE-STRUCTURED-LOCATION;VALUE=URI;X-ADDRESS=1200 South Ocean Boulevard 
 Pompano Beach\, Miami\, Florida\, 33062\, FL\, United States;X-APPLE-RADIU
 S=100;X-TITLE=Beachcomber Resort & Club:geo:0,0
END:VEVENT
BEGIN:VTIMEZONE
TZID:America/New_York
X-LIC-LOCATION:America/New_York
BEGIN:DAYLIGHT
DTSTART:20240310T030000
TZOFFSETFROM:-0500
TZOFFSETTO:-0400
TZNAME:EDT
END:DAYLIGHT
END:VTIMEZONE
END:VCALENDAR