BEGIN:VCALENDAR
VERSION:2.0
PRODID:-//wp-events-plugin.com//7.2.3.1//EN
TZID:America/New_York
X-WR-TIMEZONE:America/New_York
BEGIN:VEVENT
UID:1261@breathemiami.us
DTSTART;TZID=America/New_York:20250310T130000
DTEND;TZID=America/New_York:20250310T160000
DTSTAMP:20250216T175553Z
URL:https://breathemiami.us/events/broward-miami-fl-cpr-aed-cpr-certificat
 ion-training/
SUMMARY:Broward / Miami FL CPR & AED Cpr Certification Training
DESCRIPTION:Individuals in the Broward and Miami\, FL area seeking essentia
 l life-saving skills are invited to participate in a comprehensive CPR &am
 p\; AED Certification Training session. This hands-on\, in-person event wi
 ll take place at Regus - Fort Lauderdale - Plantation\, providing attendee
 s with the opportunity to gain American Heart Association (AHA)-approved c
 ertification in cardiopulmonary resuscitation (CPR) and automated external
  defibrillator (AED) use.\nParticipants will receive expert instruction on
  proper emergency response techniques\, equipping them with the knowledge 
 and confidence to assist individuals experiencing cardiac emergencies. Thi
 s training is designed for professionals in healthcare\, childcare\, fitne
 ss\, and other industries\, as well as for anyone interested in acquiring 
 critical emergency response skills.\nBy completing this certification\, at
 tendees will be better prepared to take immediate action in life-threateni
 ng situations\, potentially saving lives within their communities. Secure 
 a spot today and take a proactive step toward becoming a certified lifesav
 er!\n\n\nGET TICKETS\n
ATTACH;FMTTYPE=image/jpeg:https://breathemiami.us/wp-content/uploads/2025/
 02/Broward-Miami-FL-CPR-AED-Cpr-Certification-Training.jpg
CATEGORIES:Wellness Events
LOCATION:Regus - Fort Lauderdale - Plantation\, 8201 Peters Road\, 1000 Pla
 ntation\, Florida\, 33324\, FL\, United States
X-APPLE-STRUCTURED-LOCATION;VALUE=URI;X-ADDRESS=8201 Peters Road\, 1000 Pla
 ntation\, Florida\, 33324\, FL\, United States;X-APPLE-RADIUS=100;X-TITLE=
 Regus - Fort Lauderdale - Plantation:geo:0,0
END:VEVENT
BEGIN:VTIMEZONE
TZID:America/New_York
X-LIC-LOCATION:America/New_York
BEGIN:DAYLIGHT
DTSTART:20250309T030000
TZOFFSETFROM:-0500
TZOFFSETTO:-0400
TZNAME:EDT
END:DAYLIGHT
END:VTIMEZONE
END:VCALENDAR