BEGIN:VCALENDAR
VERSION:2.0
PRODID:-//wp-events-plugin.com//7.2.3.1//EN
TZID:America/New_York
X-WR-TIMEZONE:America/New_York
BEGIN:VEVENT
UID:468@breathemiami.us
DTSTART;TZID=America/New_York:20240519T100000
DTEND;TZID=America/New_York:20240519T170000
DTSTAMP:20240503T185542Z
URL:https://breathemiami.us/events/broadway-blessings-and-brunch/
SUMMARY:Broadway\, Blessings And Brunch
DESCRIPTION:\nBroadway Comes to Temple Israel: A Night of Unforgettable Mus
 ic\nCalling all musical theater enthusiasts! Temple Israel of Greater Miam
 i presents a unique and unforgettable evening on May 19th – a Broadway G
 ala featuring the talented singers from the vocal studio of Manny Perez.\n
 A Night of Showstoppers:\nPrepare to be dazzled by a captivating selection
  of Broadway classics. Gifted vocalists will bring beloved songs to life\,
  transporting you to the heart of your favorite musicals.\nWhat to Expect:
 \n\n\n 	Singers from Manny Perez's Vocal Studio: These talented performers
  are ready to showcase their vocal prowess and interpret renowned Broadway
  melodies.\n 	A Diverse Repertoire: The program promises a delightful mix 
 of iconic Broadway tunes\, including:\n\n 	"Summertime" (Porgy and Bess)\n
  	"Bring Him Home" (Les Misérables)\n 	(Expect many more!)\n\n\n 	A "One-
 Time" Program: This is a unique opportunity to experience a specially cura
 ted program of Broadway favorites. Don't miss out!\n\nMore Than Just Music
 :\n\n\n 	A Welcoming Environment: Temple Israel of Greater Miami fosters a
  warm and inviting atmosphere for all guests.\n 	A Community Event: This e
 vent provides a wonderful opportunity to connect with fellow music lovers 
 and celebrate the magic of Broadway.\n 	Support a Worthy Cause: (Optional)
  Consider attending the gala not only for the entertainment but also to su
 pport Temple Israel of Greater Miami's mission and initiatives.\n\nUnforge
 ttable Memories:\nThe Broadway Gala at Temple Israel of Greater Miami prom
 ises to be a truly memorable evening:\n\n\n 	Experience the Power of Broad
 way: Immerse yourself in the emotional depth and captivating melodies of t
 hese timeless classics.\n 	Discover New Talent: Witness the incredible voi
 ces of the singers from Manny Perez's vocal studio.\n 	A Night of Communit
 y and Connection: Share the joy of music and Broadway with fellow enthusia
 sts.\n 	Create Lasting Memories: This unique event is sure to leave a last
 ing impression on all who attend.\n\nDon't miss this extraordinary opportu
 nity to experience the magic of Broadway at Temple Israel of Greater Miami
 ! Mark your calendars for May 19th and prepare for a night of exceptional 
 music and community spirit!\n\n\n\nBUY TICKETS\n
ATTACH;FMTTYPE=image/jpeg:https://breathemiami.us/wp-content/uploads/2024/
 05/gala-webpage.png
CATEGORIES:Wellness Events
LOCATION:Temple Israel of Greater Miami\, 137 NE 19th St\, Miami\, Florida\
 , 33132\, United States
X-APPLE-STRUCTURED-LOCATION;VALUE=URI;X-ADDRESS=137 NE 19th St\, Miami\, Fl
 orida\, 33132\, United States;X-APPLE-RADIUS=100;X-TITLE=Temple Israel of 
 Greater Miami:geo:0,0
END:VEVENT
BEGIN:VTIMEZONE
TZID:America/New_York
X-LIC-LOCATION:America/New_York
BEGIN:DAYLIGHT
DTSTART:20240310T030000
TZOFFSETFROM:-0500
TZOFFSETTO:-0400
TZNAME:EDT
END:DAYLIGHT
END:VTIMEZONE
END:VCALENDAR