BEGIN:VCALENDAR
VERSION:2.0
PRODID:-//wp-events-plugin.com//7.2.3.1//EN
TZID:America/New_York
X-WR-TIMEZONE:America/New_York
BEGIN:VEVENT
UID:331@breathemiami.us
DTSTART;TZID=America/New_York:20240212T190000
DTEND;TZID=America/New_York:20240212T210000
DTSTAMP:20240907T181313Z
URL:https://breathemiami.us/events/brickell-babes-galentines-day-sweat-ser
 ies-city-zero/
SUMMARY:Brickell Babes Galentine's Day Sweat Series | City Zero
DESCRIPTION:Join the Brickell Babes for an exhilarating experience at our r
 enowned Sweat Series hosted at the newly inaugurated City Zero fitness stu
 dio in the heart of Brickell. As a special treat\, all participants will b
 e gifted exclusive matching TLF fitness sets\, including a stylish sports 
 bra and leggings\, valued at over $200!\n\nIndulge in a delectable dinner 
 provided by Sweetgreen\, featuring an array of full bowls from their menu.
  Elevate your wellness journey with B12 MIC LipoFit "Skinny Shots\," and r
 evel in the excitement of receiving fabulous goodie bags filled with swag 
 from our cherished brands\, such as Yon-Ka\, Miami Beach Bum\, Liquid Deat
 h\, and more!\n\nPlease make sure to arrive by 7 PM to facilitate a smooth
  check-in process and allow ample time to change into your trendy TLF outf
 it. The class is set to kick off promptly at 7:30 PM\, ensuring an evening
  filled with energy and positivity.\n\nAbout the class:\n\nImmerse yoursel
 f in the vibrant world of Zumba\, a Latin-inspired dance workout that prom
 ises not only an invigorating aerobic exercise but also an incredibly enjo
 yable experience. Let loose\, have fun\, and dance your way to fitness wit
 h our dynamic instructors.\n\nEvent Details:\n\n📍 Address: 591 SW 8th S
 t\, Miami\, FL 33130\n\nAgenda:\n\n7:00 PM - 7:30 PM\n\nArrival\, Check-In
 \, &amp\; Change into TLF Outfits\n\nGet ready to make a grand entrance as
  you arrive at the City Zero fitness studio. Our team will be on hand to a
 ssist with check-in\, and don't forget to collect your exclusive TLF fitne
 ss set to ensure you're dressed to impress.\n\n7:30 PM - 8:30 PM\n\nZumba 
 Class with Carlos Torress\n\nEmbark on a fitness journey like no other as 
 we dive into a lively Zumba class led by the dynamic instructor\, Carlos T
 orress. Zumba\, a Latin-inspired dance workout\, is not just about exercis
 e\; it's an invigorating and enjoyable experience. Let loose\, move to the
  rhythm\, and have a blast while breaking a sweat.\n\n8:30 PM - 9:30 PM\n\
 nAfter Party: Dinner &amp\; Social Hour\n\nThe fitness fun doesn't end wit
 h the Zumba class! Recharge with a delectable dinner provided by Sweetgree
 n\, featuring full bowls from their menu. And that's not all – indulge i
 n the excitement of our After Party\, where you'll receive fantastic goodi
 e bags filled with swag from our favorite brands\, including Yon-Ka\, Miam
 i Beach Bum\, and more. Connect with fellow fitness enthusiasts during thi
 s social hour\, creating lasting memories and building a sense of communit
 y.\n\nSecure your spot now for this exclusive event that seamlessly blends
  fitness\, style\, and celebration. Join the Brickell Babes for a night of
  Zumba\, fashion\, and post-workout delights at City Zero Fitness Studio!\
 n\n&nbsp\;\n\n&nbsp\;\n\nGET TICKETS\n\n&nbsp\;\n\n
ATTACH;FMTTYPE=image/jpeg:https://breathemiami.us/wp-content/uploads/2024/
 01/https___cdn.evbuc_.com_images_684632649_1179333699243_1_original.jpeg
CATEGORIES:Featured Events,Mindfulness Events,Things To Do,Wellness
 Events,Yoga Events
LOCATION:City Zero Studio\, 591 Southwest 8th Street Miami\, FL \, Miami\, 
 Florida\, 33130\, United States
X-APPLE-STRUCTURED-LOCATION;VALUE=URI;X-ADDRESS=591 Southwest 8th Street Mi
 ami\, FL \, Miami\, Florida\, 33130\, United States;X-APPLE-RADIUS=100;X-T
 ITLE=City Zero Studio:geo:0,0
END:VEVENT
BEGIN:VTIMEZONE
TZID:America/New_York
X-LIC-LOCATION:America/New_York
BEGIN:STANDARD
DTSTART:20231105T010000
TZOFFSETFROM:-0400
TZOFFSETTO:-0500
TZNAME:EST
END:STANDARD
END:VTIMEZONE
END:VCALENDAR