BEGIN:VCALENDAR
VERSION:2.0
PRODID:-//wp-events-plugin.com//7.2.3.1//EN
TZID:America/New_York
X-WR-TIMEZONE:America/New_York
BEGIN:VEVENT
UID:372@breathemiami.us
DTSTART;TZID=America/New_York:20240326T190000
DTEND;TZID=America/New_York:20240326T210000
DTSTAMP:20240308T224721Z
URL:https://breathemiami.us/events/brickell-babe-sweat-series-airlab/
SUMMARY:Brickell Babe Sweat Series | AIRLAB
DESCRIPTION:\nElevate Your Workout &amp\; Socialize with Brickell Babes: Sw
 eat Series Hits AIRLAB!\nBrickell Babes\, get ready to sweat in style! Joi
 n us for our signature Sweat Series at the brand-new AIRLAB fitness studio
  in Wynwood. This exclusive event promises a powerful workout\, delicious 
 food\, pampering treats\, and a chance to connect with fellow Brickell Bab
 es.\nThe Ultimate Fitness Experience:\n\n\n 	High-Intensity Lower Body Wor
 kout: Focus on building strength and muscle with a challenging routine in 
 AIRLAB's unique high-altitude environment.\n 	Matching LIVE! Fitness Set: 
 All participants will receive a complimentary set of stylish sports bras a
 nd leggings – a perfect addition to your workout wardrobe (total value o
 ver $100)!\n 	Delicious Dinner by Sweetgreen: Refuel after your workout wi
 th a satisfying and healthy meal from Sweetgreen's extensive menu.\n 	Lipo
  Fit B12 "Skinny Shots": Enjoy an energy boost with a complimentary Lipo F
 it B12 shot.\n 	Mini Facials by Silver Mirror: Pamper yourself with a rela
 xing mini facial provided by Silver Mirror (another added perk!).\n\nUnlea
 sh Your Potential at AIRLAB:\n\n\n 	Burn More Calories\, Effortlessly: Tra
 in smarter\, not harder! AIRLAB's scientifically-backed hypoxic training a
 llows you to burn up to 25% more calories during your workout.\n 	Boost En
 durance and Stamina: Improve your body's ability to utilize oxygen\, leadi
 ng to longer-lasting energy and improved athletic performance.\n 	Strength
 en Your Heart &amp\; Improve Overall Health: Enhance your cardiovascular h
 ealth by increasing red blood cell volume and maximizing EPOC (Excess Post
 -Exercise Oxygen Consumption) for a continued calorie burn even after your
  workout.\n\nEvent Schedule:\n\n\n 	Arrive by 7:15 PM for check-in and cha
 nge into your complimentary LIVE! outfit.\n 	The workout begins promptly a
 t 7:30 PM.\n\nDon't miss this opportunity for a fun\, effective\, and luxu
 rious workout experience!\nJoin the Brickell Babes Sweat Series at AIRLAB 
 and take your fitness journey to new heights!\n\n\n\nBUY TICKETS\n
ATTACH;FMTTYPE=image/jpeg:https://breathemiami.us/wp-content/uploads/2024/
 03/https___cdn.evbuc_.com_images_714180579_1179333699243_1_original.jpg
CATEGORIES:Wellness Events
LOCATION:AIRLAB\, 2901 Northeast 1st Avenue #Ste 12 \, #Ste 12 \, Miami\, 3
 3137 \, United States
X-APPLE-STRUCTURED-LOCATION;VALUE=URI;X-ADDRESS=2901 Northeast 1st Avenue #
 Ste 12 \, #Ste 12 \, Miami\, 33137 \, United States;X-APPLE-RADIUS=100;X-T
 ITLE=AIRLAB:geo:0,0
END:VEVENT
BEGIN:VTIMEZONE
TZID:America/New_York
X-LIC-LOCATION:America/New_York
BEGIN:DAYLIGHT
DTSTART:20240310T030000
TZOFFSETFROM:-0500
TZOFFSETTO:-0400
TZNAME:EDT
END:DAYLIGHT
END:VTIMEZONE
END:VCALENDAR