BEGIN:VCALENDAR
VERSION:2.0
PRODID:-//wp-events-plugin.com//7.2.3.1//EN
TZID:America/New_York
X-WR-TIMEZONE:America/New_York
BEGIN:VEVENT
UID:97@breathemiami.us
DTSTART;TZID=America/New_York:20231023T183000
DTEND;TZID=America/New_York:20231023T200000
DTSTAMP:20240218T002837Z
URL:https://breathemiami.us/events/breathwork-with-eugene-gant-at-faena-20
 23-10-23/
SUMMARY:Breathwork with EuGene Gant at Faena
DESCRIPTION:Join the charismatic EuGene Gant for his monthly breathwork ses
 sion at the Faena Hotel.\nThe Breath is the king of the mind\, and the min
 d is the king of the senses! This extended breath session will immerse you
  in the power of your life force\, helping you release tension\, stress\, 
 and toxins from your body.\n\nJoin EuGene Gant\, Naam Yoga therapist\, as 
 he guides you through his signature "Breath Bath" experience. The class wi
 ll move you through different phases of breathing modalities specifically 
 designed and curated to help you reset your nervous system\, and strengthe
 n your capacity to think\, feel\, and move with clarity and power. Prepare
  for a deep dive into personal healing and a boost to your vibration\, one
  breath at a time.\n\n\nGET TICKETS\n\n\nWho:\nFor over 17 years\, EuGene 
 Gant has been motivating people with practical teachings that encourage a 
 conscious lifestyle\, healthy body\, clear mind\, and open heart. EuGene c
 ombines yoga therapies\, breathing techniques\, and meditation\, fused wit
 h empowering mantras\, soulful music of his own creation\, and plenty of l
 aughter. EuGene is known for his distinctive\, high-energy\, and inspiring
  teaching style. His aspiration in teaching is to help people achieve thei
 r highest potential while honoring their spiritual connection.\nWhere:\nFa
 ena Hotel (3201 Collins Avenue\, Miami Beach). Check-in at Tierra Santa He
 aling Spa on the 3rd Floor.\nParking:\nValet parking at Faena Hotel or mun
 icipal lot 1 block north of Faena.\nBring:\nA refillable water bottle and 
 an open heart.\nTickets:\nRegistration is Early Bird or General Admission\
 nExclusive Rates for Members:\nClick to explore the benefits and join a pl
 an.\n\n10% off this session with ŌMIE PLAN ($49 per year)\n10% off this s
 ession with PRACTICE PLAN ($99 per month)\nThis session is included with A
 CCESS PLAN ($199 per month)\nMindful Miles™️:\nGet rewarded for your s
 piritual practice. All Members are enrolled into our “frequent flier” 
 program for our Miami events.\n\n 	Every 10MM you earn\, receive a reward 
 to celebrate your practice\n 	Every 25MM you earn\, receive a MM status up
 grade\, which comes with valuable perks\n\nOnline Resources:\nIf you canno
 t join us in person\, we have the following online resources available.\n\
 n 	Modern Medi Club - a friendly donation-based online meditation studio w
 ith classes daily at 8am\, 10am\, and 8pm. This online studio is FREE to j
 oin and can be joined separately from Miami plans.\n 	Cushion Crawl On Dem
 and - 500 videos that were recorded over a period of 3 years by 120+ world
 -class facilitators. Access to this Content Library is given with all Miam
 i plans.\n\nFollow us: Instagram | TikTok | Miami Telegram\nABOUT MODERN 
 ŌM\nModern ŌM has been connecting community to world-class spiritual we
 llness programs since 2016. Our offerings include 30+ Miami event monthly\
 , retreats\, trainings\, online meditations via the Modern Medi Club\, and
  branded merchandise.\n\nConsider us your resource for spiritual wellness.
  We support an ever-evolving community of entrepreneurs\, professionals\, 
 and creatives that prioritize their spiritual well-being. Join us in Miami
  and beyond.\nCOMMUNITY PRAISE\n"I love the community\, I love the vibe of
  Modern ŌM!!" - Seema\n\n"I highly recommend this membership - you will n
 ot regret it!" - Nadine\n\n“You can really tell Modern ŌM truly truly c
 ares about its community and the conscious evolution of its members. Thank
  you!” - Alessandra\n\n\n\n
ATTACH;FMTTYPE=image/jpeg:https://breathemiami.us/wp-content/uploads/2023/
 10/breathework-with-eugene-gant-at-faena-2023-10-23.jpeg
CATEGORIES:Mindfulness Events,Things To Do,Wellness Events,Yoga Events
LOCATION:Faena Hotel\, 3201 Collins Avenue\, Miami Beach\, FL\, 33140\, Uni
 ted States
X-APPLE-STRUCTURED-LOCATION;VALUE=URI;X-ADDRESS=3201 Collins Avenue\, Miami
  Beach\, FL\, 33140\, United States;X-APPLE-RADIUS=100;X-TITLE=Faena Hotel
 :geo:0,0
END:VEVENT
BEGIN:VTIMEZONE
TZID:America/New_York
X-LIC-LOCATION:America/New_York
BEGIN:DAYLIGHT
DTSTART:20230312T030000
TZOFFSETFROM:-0500
TZOFFSETTO:-0400
TZNAME:EDT
END:DAYLIGHT
END:VTIMEZONE
END:VCALENDAR