BEGIN:VCALENDAR
VERSION:2.0
PRODID:-//wp-events-plugin.com//7.2.3.1//EN
TZID:America/New_York
X-WR-TIMEZONE:America/New_York
BEGIN:VEVENT
UID:969@breathemiami.us
DTSTART;TZID=America/New_York:20241016T200000
DTEND;TZID=America/New_York:20241016T210000
DTSTAMP:20241003T023526Z
URL:https://breathemiami.us/events/breathwork-sound-santa-monica-brentwood
 -west-la/
SUMMARY:Breathwork & Sound - Santa Monica | Brentwood | West LA
DESCRIPTION:Breathwork &amp\; Sound - Santa Monica | Brentwood | West LA in
 vites participants to explore the transformative power of breath and sound
 . Offered every Sunday and Wednesday evenings at Laughing Frog Yoga\, this
  unique experience combines ancient yogic breathing techniques with soothi
 ng soundscapes to promote healing and inner peace.\n\nOne participant shar
 ed their profound experience\, stating that they were unexpectedly immerse
 d in a new state of awareness during a breathwork session. Within minutes\
 , their body resonated with vibrations\, and long-buried sorrows and emoti
 onal wounds began to surface and dissolve. This practice allowed them to r
 econnect with feelings of joy\, love\, and tranquility\, leading them to d
 iscover a natural high that felt more fulfilling than any substance.\n\nFo
 r over ten years\, Laughing Frog Yoga has been a cherished part of the Wes
 tside community\, conveniently located at the intersection of Brentwood\, 
 West LA\, and Santa Monica. Participants are encouraged to book directly t
 hrough their website\, laughingfrogyoga.com\, for the best pricing options
 .\n\nExperience the rejuvenating effects of breath work &amp\; sound and e
 mbark on a journey toward emotional healing and self-discovery.\n\nGET TIC
 KETS\n
ATTACH;FMTTYPE=image/jpeg:https://breathemiami.us/wp-content/uploads/2024/
 10/Breathwork-Sound-Santa-Monica-Brentwood-West-LA.jpg
CATEGORIES:Wellness Events
LOCATION:Laughing Frog Yoga\, 12217 Santa Monica Blvd Los Angeles\, CA 9002
 5 United States\, Los Angeles\, California\, 90025\, CA\, United States
X-APPLE-STRUCTURED-LOCATION;VALUE=URI;X-ADDRESS=12217 Santa Monica Blvd Los
  Angeles\, CA 90025 United States\, Los Angeles\, California\, 90025\, CA\
 , United States;X-APPLE-RADIUS=100;X-TITLE=Laughing Frog Yoga:geo:0,0
END:VEVENT
BEGIN:VTIMEZONE
TZID:America/New_York
X-LIC-LOCATION:America/New_York
BEGIN:DAYLIGHT
DTSTART:20240310T030000
TZOFFSETFROM:-0500
TZOFFSETTO:-0400
TZNAME:EDT
END:DAYLIGHT
END:VTIMEZONE
END:VCALENDAR