BEGIN:VCALENDAR
VERSION:2.0
PRODID:-//wp-events-plugin.com//7.2.3.1//EN
TZID:America/New_York
X-WR-TIMEZONE:America/New_York
BEGIN:VEVENT
UID:1329@breathemiami.us
DTSTART;TZID=America/New_York:20251028T190000
DTEND;TZID=America/New_York:20251028T210000
DTSTAMP:20251027T162328Z
URL:https://breathemiami.us/events/breathwork-sound-journey-by-tribal-gala
 xy/
SUMMARY:Breathwork & Sound Journey by Tribal Galaxy
DESCRIPTION:✨ About this Event\nJoin us for a powerful Breathwork &amp\;
  Sound Journey guided by Tribal Galaxy inside Miami’s most immersive 
 wellness space.\nThis experience combines deep\, conscious breathing with 
 live sound healing and 360° visual projections\, designed to release ten
 sion\, open awareness\, and restore balance to the body and mind.\n\nThrou
 gh guided breathwork\, you’ll activate your inner energy and enter a sta
 te of calm clarity — followed by a transformative sound journey featur
 ing frequencies and instruments that promote grounding\, healing\, and exp
 ansion.\n✨ Enhancements to the Experience\n\n 	360° projection mapping
  surrounds you with stunning visuals\, creating a fully immersive environ
 ment for inner exploration.\n 	Live sound healing with Tribal Galaxy enha
 nces emotional release and energetic harmony.\n 	Mats are provided\; guest
 s may bring a blanket or pillow for extra comfort during the sound journey
 .\n\nThis is more than a class — it’s a transformative inner journey
  designed to help you reset\, renew\, and reconnect with your true self.
ATTACH;FMTTYPE=image/jpeg:https://breathemiami.us/wp-content/uploads/2025/
 10/immersive_miami_breathwork_and_sound_journey_by_tribal_galaxy_2025_10_8
 .png
CATEGORIES:Mindfulness Events,Sports &amp; Fitness Events,Things To
 Do,Wellness Events,Yoga Events
LOCATION:ARTXSPACE\, 301 NW 28th St\, Miami\, Florida\, 33127\, FL\, United
  States
X-APPLE-STRUCTURED-LOCATION;VALUE=URI;X-ADDRESS=301 NW 28th St\, Miami\, Fl
 orida\, 33127\, FL\, United States;X-APPLE-RADIUS=100;X-TITLE=ARTXSPACE:ge
 o:0,0
END:VEVENT
BEGIN:VTIMEZONE
TZID:America/New_York
X-LIC-LOCATION:America/New_York
BEGIN:DAYLIGHT
DTSTART:20250309T030000
TZOFFSETFROM:-0500
TZOFFSETTO:-0400
TZNAME:EDT
END:DAYLIGHT
END:VTIMEZONE
END:VCALENDAR