BEGIN:VCALENDAR
VERSION:2.0
PRODID:-//wp-events-plugin.com//7.2.3.1//EN
TZID:America/New_York
X-WR-TIMEZONE:America/New_York
BEGIN:VEVENT
UID:1322@breathemiami.us
DTSTART;TZID=America/New_York:20251011T100000
DTEND;TZID=America/New_York:20251011T113000
DTSTAMP:20251007T153710Z
URL:https://breathemiami.us/events/breathwork-silent-disco-w-casaonsse/
SUMMARY:Breathwork & Silent Disco w/ Casaonsse
DESCRIPTION:\n✨ Special Morning Edition: October 11 | Casaonsse Breathwo
 rk ✨\nOn October 11\, the immersive series welcomes a special Casaonsse
  morning session\, a space centered on breathwork\, ritual\, and reset. Su
 rrounded by 360° visuals and guided through silent headphones\, Casaonsse
  invites you into a practice that is intentional\, grounding\, and deeply 
 present.\n\n&nbsp\;\n\nWhat’s Included\n• Expert-led 60-minute Casaons
 se breathwork session\n• Immersive silent headphone experience for deepe
 r presence\n• Opening ritual and intention setting\n• Curated Casaonss
 e goodie bag\n• Closing integration circle\n\n&nbsp\;\nThe morning begin
 s with a gentle ceremony to set intentions\, followed by a guided breathwo
 rk journey that softens the nervous system and reconnects you with the bod
 y’s inner wisdom. The session closes with integration and a curated gift
  to carry the experience into your day.\n&nbsp\;
ATTACH;FMTTYPE=image/jpeg:https://breathemiami.us/wp-content/uploads/2025/
 09/tgg1ptlnfb3znlh0p0dh.jpg
CATEGORIES:Mindfulness Events,Sports &amp; Fitness Events,Things To
 Do,Wellness Events,Yoga Events
LOCATION:ARTXSPACE\, 301 NW 28th St\, Miami\, 33137\, FL\, United States
X-APPLE-STRUCTURED-LOCATION;VALUE=URI;X-ADDRESS=301 NW 28th St\, Miami\, 33
 137\, FL\, United States;X-APPLE-RADIUS=100;X-TITLE=ARTXSPACE:geo:0,0
END:VEVENT
BEGIN:VTIMEZONE
TZID:America/New_York
X-LIC-LOCATION:America/New_York
BEGIN:DAYLIGHT
DTSTART:20250309T030000
TZOFFSETFROM:-0500
TZOFFSETTO:-0400
TZNAME:EDT
END:DAYLIGHT
END:VTIMEZONE
END:VCALENDAR