BEGIN:VCALENDAR
VERSION:2.0
PRODID:-//wp-events-plugin.com//7.2.3.1//EN
TZID:America/New_York
X-WR-TIMEZONE:America/New_York
BEGIN:VEVENT
UID:511@breathemiami.us
DTSTART;TZID=America/New_York:20240614T000000
DTEND;TZID=America/New_York:20240614T000000
DTSTAMP:20240531T055616Z
URL:https://breathemiami.us/events/breathwork-awaken/
SUMMARY:BREATHWORK & AWAKEN!
DESCRIPTION:Embark on a transformative journey that reconnects you with you
 r soul\, divinity\, and inner source. This life-changing experience is des
 igned to help you rediscover your true essence\, gain clarity\, and underg
 o profound inner transformation. By processing stored trauma and transcend
 ing limiting beliefs\, you can release anything that no longer serves you.
 \n\nDuring this event\, participants will unlock their true potential and 
 connect with their highest selves. This path of self-discovery\, personal 
 growth\, and inner alchemy encourages a return to your authentic self and 
 heart. Transition from a victim mindset to that of an alchemist\, embracin
 g the wholeness\, love\, worthiness\, and perfection inherent within you.\
 n\nThis event caters to those courageous enough to delve deep into their a
 lchemical process\, whether they are new to this journey or have been on i
 t for some time. Expect to confront trauma\, shadows\, various archetypes\
 , and any other challenges that arise. By facing these fears directly and 
 with love\, participants will receive support in transcending them within 
 a safe and nurturing environment.\n\nExplore what has been holding you bac
 k\, gain clarity\, and unearth your true power\, potential\, and purpose. 
 Whether you seek better relationships\, improved finances\, a clearer life
  purpose\, or simply more love\, joy\, and peace\, this event offers a gat
 eway to bridging mind\, body\, and spirit from within. It provides an oppo
 rtunity to take radical responsibility for your life and co-create the rea
 lity you know is your birthright\, sharing your amazing gifts with the wor
 ld.\n\nJoin a genuine community of individuals on a journey toward profoun
 d personal transformation. Face life's challenges with resilience and wisd
 om\, stepping into your true purpose and sharing your unique gifts with th
 e world. If you've been struggling with financial difficulties\, recognize
  that the root of these struggles often lies in your beliefs\, emotions\, 
 and self-perception.\n\nAllow yourself to experience this life-altering ch
 ange and embrace the path toward a brighter\, more fulfilling future.\n\nG
 ET TICKETS\n
ATTACH;FMTTYPE=image/jpeg:https://breathemiami.us/wp-content/uploads/2024/
 05/BREATHWORK-AWAKEN.jpg
CATEGORIES:Wellness Events
LOCATION:431 NW 107th St\, 431 Northwest 107th Street \, Miami\, Florida\, 
 33168\,  FL \, United States
X-APPLE-STRUCTURED-LOCATION;VALUE=URI;X-ADDRESS=431 Northwest 107th Street 
 \, Miami\, Florida\, 33168\,  FL \, United States;X-APPLE-RADIUS=100;X-TIT
 LE=431 NW 107th St:geo:0,0
END:VEVENT
BEGIN:VTIMEZONE
TZID:America/New_York
X-LIC-LOCATION:America/New_York
BEGIN:DAYLIGHT
DTSTART:20240310T030000
TZOFFSETFROM:-0500
TZOFFSETTO:-0400
TZNAME:EDT
END:DAYLIGHT
END:VTIMEZONE
END:VCALENDAR