BEGIN:VCALENDAR
VERSION:2.0
PRODID:-//wp-events-plugin.com//7.2.3.1//EN
TZID:America/New_York
X-WR-TIMEZONE:America/New_York
BEGIN:VEVENT
UID:576@breathemiami.us
DTSTART;TZID=America/New_York:20240713T193000
DTEND;TZID=America/New_York:20240713T223000
DTSTAMP:20240624T053448Z
URL:https://breathemiami.us/events/breathwork-awaken-2/
SUMMARY:BREATHWORK & AWAKEN!
DESCRIPTION:Embark on a transformative journey with "Breathwork &amp\; Awak
 en!" where you'll reconnect with your soul\, inner divinity\, and true ess
 ence. This life-changing experience is designed to help you gain clarity\,
  process stored trauma\, and transcend limiting beliefs that no longer ser
 ve you. Rediscover your true potential and highest self through self-disco
 very\, personal growth\, and inner alchemy.\n\nEvent Overview:\n\nJoin us 
 for an immersive event that offers a deep dive into your alchemical proces
 s\, whether you are just beginning your journey or have been on this path 
 for a while. This experience is for those courageous enough to confront th
 eir trauma\, shadow\, and various archetypes. In a safe and supportive env
 ironment\, you'll face your fears and transcend them with love\, ultimatel
 y unlocking your true power\, potential\, and purpose.\n\nWhat to Expect:\
 n\n 	Deep Connection: Reconnect with your soul\, divinity\, and source wit
 hin. Remember your true essence and embrace your inherent worthiness and p
 erfection.\n 	Transformation: Experience profound transformation from the 
 inside out as you process stored trauma and let go of anything that no lon
 ger serves you.\n 	Self-Discovery: Embark on a path of self-discovery and 
 personal growth\, uncovering the key to your highest self and true potenti
 al.\n 	Inner Alchemy: Return to your heart and true self\, transforming fr
 om a victim to an alchemist. Embrace the concept of "as within\, so withou
 t" to achieve wholeness and inner peace.\n\nWho Should Attend:\n\nThis eve
 nt is for anyone ready to take a radical step toward self-improvement and 
 personal empowerment. Whether you're seeking better relationships\, financ
 ial clarity\, a clearer life purpose\, or simply more love\, joy\, and pea
 ce\, this event will guide you in building the bridge between mind\, body\
 , and spirit from within.\n\nKey Components:\n\n 	Breathwork: Engage in po
 werful breathwork techniques that help release stored emotions and facilit
 ate deep healing.\n 	Trauma Processing: Face and transcend fears and traum
 a with love and support\, confronting the root causes of your struggles.\n
  	Clarity and Purpose: Gain clarity on what has been holding you back and 
 unearth your true power\, potential\, and purpose.\n 	Supportive Environme
 nt: Benefit from a safe container where you can fully express and explore 
 your inner world.\n\nBenefits:\n\n 	Improved Relationships: Enhance your c
 onnections with others by healing from within.\n 	Financial Clarity: Gain 
 insights that can lead to better financial decision-making and abundance.\
 n 	Life Purpose: Discover and embrace your true life purpose\, aligning wi
 th your highest self.\n 	Inner Peace: Achieve a state of inner peace\, lov
 e\, and joy that radiates outward into every aspect of your life.\n\nJoin 
 Us:\n\nTake this opportunity to take full responsibility for your life and
  co-create the reality you know is your birthright. Share your amazing gif
 ts with the world and experience the profound benefits of this transformat
 ive event. Embrace the journey of Breathwork &amp\; Awaken! and return hom
 e to your heart and true self.\n\nGET TICKETS\n
ATTACH;FMTTYPE=image/jpeg:https://breathemiami.us/wp-content/uploads/2024/
 06/BREATHWORK-AWAKEN.jpg
CATEGORIES:Mindfulness Events,Wellness Events
LOCATION:Hanu Yoga Studio (formerly Greenmonkey)\, 736 6th Street Miami Bea
 ch\, Miami\, Florida\, 33139\,  FL \, United States
X-APPLE-STRUCTURED-LOCATION;VALUE=URI;X-ADDRESS=736 6th Street Miami Beach\
 , Miami\, Florida\, 33139\,  FL \, United States;X-APPLE-RADIUS=100;X-TITL
 E=Hanu Yoga Studio (formerly Greenmonkey):geo:0,0
END:VEVENT
BEGIN:VTIMEZONE
TZID:America/New_York
X-LIC-LOCATION:America/New_York
BEGIN:DAYLIGHT
DTSTART:20240310T030000
TZOFFSETFROM:-0500
TZOFFSETTO:-0400
TZNAME:EDT
END:DAYLIGHT
END:VTIMEZONE
END:VCALENDAR