BEGIN:VCALENDAR
VERSION:2.0
PRODID:-//wp-events-plugin.com//7.2.3.1//EN
TZID:America/New_York
X-WR-TIMEZONE:America/New_York
BEGIN:VEVENT
UID:805@breathemiami.us
DTSTART;TZID=America/New_York:20240921T093000
DTEND;TZID=America/New_York:20240921T120000
DTSTAMP:20240906T185820Z
URL:https://breathemiami.us/events/breath-beats-yoga/
SUMMARY:Breath & Beats Yoga
DESCRIPTION:Experience a revitalizing yoga session at the Miami Beach Botan
 ical Garden with local yoga instructor Nina Rose and DJ/vibe creator Jules
  (also known as DJ la bb). This special event\, designed for all levels of
  practitioners\, blends the calming art of yoga with the invigorating rhyt
 hm of live music\, creating a unique and immersive experience.\n\nEvent De
 tails:\n\n 	Date and Time: The yoga practice starts promptly at 10:00 AM. 
 To ensure a smooth start\, attendees are encouraged to arrive by 9:30 AM. 
 This allows time for check-in\, finding a comfortable spot\, and soaking i
 n the tranquil ambiance of the lush gardens at Miami Beach Botanical Garde
 n.\n 	What to Bring: Participants should bring their own yoga mat and a wa
 ter bottle to stay hydrated throughout the session.\n 	Post-Practice: Foll
 owing the yoga practice\, attendees are invited to join Nina Rose\, DJ Jul
 es\, and fellow participants for a social gathering featuring refreshing b
 everages and light bites.\n\nThis event offers not only a chance to deepen
  your yoga practice but also an opportunity to connect with others in a se
 rene and picturesque setting. Don’t miss out on this harmonious blend of
  movement\, music\, and community.\n\nGET TICKETS\n
ATTACH;FMTTYPE=image/jpeg:https://breathemiami.us/wp-content/uploads/2024/
 09/Breath-Beats-Yoga.jpg
CATEGORIES:Mindfulness Events,Things To Do,Wellness Events,Yoga Events
LOCATION:Miami Beach Botanical Garden\, 2000 Convention Center Dr Miami Bea
 ch\, Miami\, Florida\, 33139\,  FL \, United States
X-APPLE-STRUCTURED-LOCATION;VALUE=URI;X-ADDRESS=2000 Convention Center Dr M
 iami Beach\, Miami\, Florida\, 33139\,  FL \, United States;X-APPLE-RADIUS
 =100;X-TITLE=Miami Beach Botanical Garden:geo:0,0
END:VEVENT
BEGIN:VTIMEZONE
TZID:America/New_York
X-LIC-LOCATION:America/New_York
BEGIN:DAYLIGHT
DTSTART:20240310T030000
TZOFFSETFROM:-0500
TZOFFSETTO:-0400
TZNAME:EDT
END:DAYLIGHT
END:VTIMEZONE
END:VCALENDAR