BEGIN:VCALENDAR
VERSION:2.0
PRODID:-//wp-events-plugin.com//7.2.3.1//EN
TZID:America/New_York
X-WR-TIMEZONE:America/New_York
BEGIN:VEVENT
UID:937@breathemiami.us
DTSTART;TZID=America/New_York:20241012T090000
DTEND;TZID=America/New_York:20241012T100000
DTSTAMP:20240930T073341Z
URL:https://breathemiami.us/events/breast-cancer-awareness-run/
SUMMARY:Breast Cancer Awareness Run
DESCRIPTION:The Eden Roc Run Club is excited to invite participants to a me
 aningful and energizing 3-mile walk or run along the scenic boardwalk. Thi
 s special event is held in honor of Breast Cancer Awareness Month\, and at
 tendees will finish their journey with a refreshing coffee to recharge and
  connect.\n\nIn support of this important cause\, all proceeds from the ev
 ent will be donated to the Susan G. Komen Foundation. This organization is
  dedicated to providing essential resources and support to those affected 
 by breast cancer\, whether personally or through friends and family. By jo
 ining this run\, participants contribute to a greater cause while fosterin
 g community spirit and awareness.\n\nThe gathering will take place at the 
 entrance of the Eden Roc Boardwalk\, conveniently located near the Aquatic
 a Pool. Ample parking is available in the lot adjacent to the hotel\, maki
 ng it easy for everyone to participate.\n\nTo ensure a smooth start\, part
 icipants are encouraged to arrive a few minutes before the designated clas
 s time. This event not only promotes physical activity but also strengthen
 s the collective fight against breast cancer. Join us in raising awareness
 \, building community\, and making a positive impact in the lives of those
  affected by this disease!\n\nGET TICKETS\n
ATTACH;FMTTYPE=image/jpeg:https://breathemiami.us/wp-content/uploads/2024/
 09/Breast-Cancer-Awareness-Run.jpg
CATEGORIES:Sports &amp; Fitness Events,Things To Do
LOCATION:Eden Roc Miami Beach\, 4525 Collins Avenue\, Miami\, Florida\, 331
 40\, FL\, United States
X-APPLE-STRUCTURED-LOCATION;VALUE=URI;X-ADDRESS=4525 Collins Avenue\, Miami
 \, Florida\, 33140\, FL\, United States;X-APPLE-RADIUS=100;X-TITLE=Eden Ro
 c Miami Beach:geo:0,0
END:VEVENT
BEGIN:VTIMEZONE
TZID:America/New_York
X-LIC-LOCATION:America/New_York
BEGIN:DAYLIGHT
DTSTART:20240310T030000
TZOFFSETFROM:-0500
TZOFFSETTO:-0400
TZNAME:EDT
END:DAYLIGHT
END:VTIMEZONE
END:VCALENDAR