BEGIN:VCALENDAR
VERSION:2.0
PRODID:-//wp-events-plugin.com//7.2.3.1//EN
TZID:America/New_York
X-WR-TIMEZONE:America/New_York
BEGIN:VEVENT
UID:1028@breathemiami.us
DTSTART;TZID=America/New_York:20241102T070000
DTEND;TZID=America/New_York:20241102T120000
DTSTAMP:20241010T083516Z
URL:https://breathemiami.us/events/botox-training-fort-lauderdale-fl-2/
SUMMARY:Botox Training - Fort Lauderdale\, FL
DESCRIPTION:Empire Medical Training offers comprehensive Botox injection tr
 aining and aesthetic procedure workshops over a weekend in Fort Lauderdale
 /Miami\, FL. These hands-on training programs include Botox\, dermal fille
 rs\, and facial aesthetics\, providing healthcare professionals with essen
 tial skills to perform cosmetic treatments effectively.\n\nTarget Audience
 :\nDesigned for healthcare practitioners in the Fort Lauderdale/Miami area
  involved in patient care with aesthetic needs\, these courses aim to enha
 nce their expertise in offering aesthetic procedures that may not have bee
 n covered in prior medical education.\n\nProgram Overview:\nThe Botox trai
 ning seminar combines lectures and hands-on workshops. Morning sessions fo
 cus on didactic education\, where learners are introduced to Botox for cos
 metic uses. In the afternoon\, participants practice Botox injections on l
 ive patients under supervision\, gaining practical experience to improve p
 atient care and outcomes in their aesthetic practice. The curriculum focus
 es on safe\, effective administration techniques for a range of cosmetic a
 pplications.\n\nLearning Outcomes:\nParticipants will learn the following:
 \n\n 	How to administer Botox injections safely and effectively.\n 	Best p
 ractices for avoiding risks and managing complications.\n 	Understanding f
 acial anatomy\, patient preferences\, and managing post-procedure care.\n 
 	Identifying suitable candidates for Botox procedures\, discussing long-te
 rm benefits\, and enhancing patient care.\n\nEducational Objectives:\n\n 	
 Competently and safely perform aesthetic Botox injections.\n 	Understand a
 dministration protocols for both aesthetic and medical conditions (e.g.\, 
 orofacial pain\, hyperhidrosis).\n 	Master patient charting\, consent form
 s\, and adverse event management.\n\nProgram Agenda:\n\n 	7:45 AM - 8:00 A
 M: Registration\n 	8:00 AM - 9:00 AM: Speaker introduction\, review of pre
 -requisite video\, and Q&amp\;A session.\n 	9:00 AM - 12:00 PM: Hands-on t
 raining with live patients\, covering FDA-approved Botox treatments for ar
 eas like the glabellar region\, crow's feet\, and forehead lines. Attendee
 s will administer Botox injections under supervision\, learning to customi
 ze treatment to individual patient needs.\n 	Adherence to CDC guidelines a
 nd safety policies during the hands-on session is mandatory.\n\nPre-Requis
 ite Materials:\nBefore attending\, participants are required to complete v
 ideo-based training on Botox procedures. These videos cover essential topi
 cs such as patient consultation\, product characteristics\, and safety pro
 tocols. Participants will also receive access to educational materials\, i
 ncluding instructional videos and procedure manuals.\n\nTopics Covered in 
 Pre-Requisite Video:\n\n 	Communicating expected Botox results and patient
  goals.\n 	Facial anatomy\, contraindications\, and corrective measures fo
 r complications.\n 	Treatment protocols for various areas: glabellar compl
 ex\, crow's feet\, forehead\, brow lifts\, gummy smiles\, and medical trea
 tments like hyperhidrosis and bruxism.\n\nAccreditation and Credits:\n\n 	
 Physicians: This live activity offers up to 8.0 AMA PRA Category 1 Credits
 ™ in accordance with ACCME standards.\n 	Nurses: Medical Education Resou
 rces is accredited by the ANCC\, providing 8.0 contact hours for nurses.\n
  	Nursing CE Hours: This activity is approved by the California Board of R
 egistered Nursing\, Provider #CEP 12299.\n\nAdditional Information:\nFor m
 ore information or to register\, visit Empire Medical Training or call 866
 -261-5164.\n\nThis training is an invaluable opportunity for medical profe
 ssionals to advance their aesthetic skills and expand their practice offer
 ings.\n\nGET TICKETS\n
ATTACH;FMTTYPE=image/jpeg:https://breathemiami.us/wp-content/uploads/2024/
 10/Botox-Training-Fort-Lauderdale-FL.jpg
CATEGORIES:Things To Do
LOCATION:299 N Federal Hwy\, 299 North Federal Highway \, Fort Lauderdale\,
  Florida\, 33304\, FL\, United States
X-APPLE-STRUCTURED-LOCATION;VALUE=URI;X-ADDRESS=299 North Federal Highway \
 , Fort Lauderdale\, Florida\, 33304\, FL\, United States;X-APPLE-RADIUS=10
 0;X-TITLE=299 N Federal Hwy:geo:0,0
END:VEVENT
BEGIN:VTIMEZONE
TZID:America/New_York
X-LIC-LOCATION:America/New_York
BEGIN:DAYLIGHT
DTSTART:20240310T030000
TZOFFSETFROM:-0500
TZOFFSETTO:-0400
TZNAME:EDT
END:DAYLIGHT
END:VTIMEZONE
END:VCALENDAR