BEGIN:VCALENDAR
VERSION:2.0
PRODID:-//wp-events-plugin.com//7.2.3.1//EN
TZID:America/New_York
X-WR-TIMEZONE:America/New_York
BEGIN:VEVENT
UID:454@breathemiami.us
DTSTART;TZID=America/New_York:20240510T070000
DTEND;TZID=America/New_York:20240510T170000
DTSTAMP:20240429T204102Z
URL:https://breathemiami.us/events/book-your-booth-at-the-mental-health/
SUMMARY:Book your booth at the Mental Health Awareness Fair - Register Toda
 y!
DESCRIPTION:\nEmpowering American Airlines Employees in Miami: Education\, 
 Resources &amp\; Support!\nCalling all American Airlines employees in Miam
 i!** Are you looking for valuable resources and support to help you thrive
  both personally and professionally? Join us in our mission to empower our
  dedicated workforce of over 2\,000 individuals!\nBuilding a Supportive Co
 mmunity:\nWe understand that the demands of the airline industry can be si
 gnificant. Our goal is to create a supportive community where Miami-based 
 American Airlines employees can find the resources they need to succeed an
 d live fulfilling lives.\nInvesting in Your Well-being:\nWe offer a wide r
 ange of educational programs\, resources\, and awareness initiatives desig
 ned to address your specific needs. Here's a glimpse of what you can expec
 t:\n\n\n 	Empowering Educational Programs: Expand your knowledge and skill
 set through workshops\, seminars\, and online learning opportunities.\n 	V
 aluable Resources at Your Fingertips: Access essential resources to naviga
 te challenges\, improve your work-life balance\, and achieve personal goal
 s.\n 	Heightened Awareness: Stay informed about important topics that can 
 impact your well-being\, both inside and outside the workplace.\n\nTogethe
 r We Rise:\nWe believe in fostering a work environment that prioritizes th
 e well-being of its employees. By investing in your success\, we invest in
  the future of American Airlines.\nReady to Get Involved?\nAre you eager t
 o learn more about the resources and support available to you? We encourag
 e you to explore the following opportunities:\n\n\n 	Connect with Us: Reac
 h out to us with any questions you might have.\n 	Join Upcoming Events: St
 ay updated on upcoming educational programs and awareness initiatives.\n 	
 Become an Advocate: Help us build a stronger support network for all Miami
 -based American Airlines employees.\n\nInvesting in Your Future\nYour well
 -being is our priority. We are committed to providing the tools and suppor
 t you need to thrive at work and in your personal life. By joining our mis
 sion\, you're taking a step towards a brighter future – both for yoursel
 f and for American Airlines.\nDon't Hesitate to Reach Out!\nFor more infor
 mation\, please feel free to contact Nikki Derisse at 954-591-9829 or cwa.
 eap.map@gmail.com. We look forward to connecting with you and supporting y
 ou on your journey towards success!\nTogether\, let's build a stronger and
  more empowered aviation community in Miami!\n\n\n\nBUY TICKETS\n
ATTACH;FMTTYPE=image/jpeg:https://breathemiami.us/wp-content/uploads/2024/
 04/https___cdn.evbuc_.com_images_749813229_872917858363_1_original.jpeg
CATEGORIES:Wellness Events
LOCATION:Miami International Airport - Concourse D Auditorium\, 2100 Northw
 est 42nd Avenue Concourse D\, Door 1\, 4th Floor\, Miami\, Florida\, 33126
 \, United States
X-APPLE-STRUCTURED-LOCATION;VALUE=URI;X-ADDRESS=2100 Northwest 42nd Avenue 
 Concourse D\, Door 1\, 4th Floor\, Miami\, Florida\, 33126\, United States
 ;X-APPLE-RADIUS=100;X-TITLE=Miami International Airport - Concourse D Audi
 torium:geo:0,0
END:VEVENT
BEGIN:VTIMEZONE
TZID:America/New_York
X-LIC-LOCATION:America/New_York
BEGIN:DAYLIGHT
DTSTART:20240310T030000
TZOFFSETFROM:-0500
TZOFFSETTO:-0400
TZNAME:EDT
END:DAYLIGHT
END:VTIMEZONE
END:VCALENDAR