BEGIN:VCALENDAR
VERSION:2.0
PRODID:-//wp-events-plugin.com//7.2.3.1//EN
TZID:America/New_York
X-WR-TIMEZONE:America/New_York
BEGIN:VEVENT
UID:608@breathemiami.us
DTSTART;TZID=America/New_York:20240714T160000
DTEND;TZID=America/New_York:20240714T183000
DTSTAMP:20240706T055442Z
URL:https://breathemiami.us/events/blush-in-bloom-floral-class-and-facial-
 class/
SUMMARY:Blush in Bloom Floral Class and Facial Class
DESCRIPTION:Step into an enchanting evening of floral-inspired elegance at 
 Blush Luxury Venue. Join us for a unique celebration where every detail is
  crafted to delight and inspire. Savor gourmet treats\, sip on exquisite C
 hampagne\, and let live music elevate the atmosphere.\n\nFloral Class:\nIm
 merse yourself in a 2-hour floral workshop led by our expert florists. Lea
 rn the art of crafting stunning arrangements to beautify your home and bri
 ng nature’s elegance indoors.\n\nFacial Class:\nAs a special treat\, eve
 ry guest will receive a Gift Card for a Complimentary Facial at our next e
 vent\, ensuring you leave feeling pampered and refreshed.\n\nAdditional De
 lights:\n\n 	Champagne Bottle Bouquet Food: Delight in our unique gourmet 
 treats\, perfectly paired with your favorite Champagne.\n 	Live Music: Enj
 oy the harmonious melodies of live music\, setting the perfect backdrop fo
 r an evening of creativity and relaxation.\n 	Signature In-House Wine or C
 hampagne: Your ticket includes a bottle of our exclusive in-house wine or 
 Champagne\, adding a touch of luxury to your experience.\n 	Swag Bag: Depa
 rt with a luxurious Swag Bag filled with exclusive goodies\, ensuring the 
 enchantment continues long after the event.\n\nCelebrate Mom in Floral Sty
 le:\n\nHonor the special women in your life with a memorable celebration. 
 Create beautiful memories\, exquisite floral arrangements\, and enjoy a de
 lightful evening dedicated to beauty\, elegance\, and joy.\n\nJoin Us:\n\n
 Secure your spot today for an evening of floral artistry and pampering. Ce
 lebrate in style\, create unforgettable memories\, and take home a piece o
 f the magic. We look forward to welcoming you to Blush in Bloom!\n\nGET TI
 CKETS\n
ATTACH;FMTTYPE=image/jpeg:https://breathemiami.us/wp-content/uploads/2024/
 07/Blush-in-Bloom-Floral-Class-and-Facial-Class.jpg
CATEGORIES:Food &amp; Drink Events,Mindfulness Events,Things To
 Do,Wellness Events
LOCATION:Blush Luxury Venue\, 3324 Griffin Road Fort Lauderdale\, Miami\, U
 nited States\, 33312\, Florida\, United States
X-APPLE-STRUCTURED-LOCATION;VALUE=URI;X-ADDRESS=3324 Griffin Road Fort Laud
 erdale\, Miami\, United States\, 33312\, Florida\, United States;X-APPLE-R
 ADIUS=100;X-TITLE=Blush Luxury Venue:geo:0,0
END:VEVENT
BEGIN:VTIMEZONE
TZID:America/New_York
X-LIC-LOCATION:America/New_York
BEGIN:DAYLIGHT
DTSTART:20240310T030000
TZOFFSETFROM:-0500
TZOFFSETTO:-0400
TZNAME:EDT
END:DAYLIGHT
END:VTIMEZONE
END:VCALENDAR